BEGIN:VCALENDAR
VERSION:2.0
PRODID:-//C-TEC Clackamas Youth Services - ECPv6.15.20//NONSGML v1.0//EN
CALSCALE:GREGORIAN
METHOD:PUBLISH
X-WR-CALNAME:C-TEC Clackamas Youth Services
X-ORIGINAL-URL:https://www.c-tecyouthservices.org
X-WR-CALDESC:Events for C-TEC Clackamas Youth Services
REFRESH-INTERVAL;VALUE=DURATION:PT1H
X-Robots-Tag:noindex
X-PUBLISHED-TTL:PT1H
BEGIN:VTIMEZONE
TZID:America/Vancouver
BEGIN:DAYLIGHT
TZOFFSETFROM:-0800
TZOFFSETTO:-0700
TZNAME:PDT
DTSTART:20210314T100000
END:DAYLIGHT
BEGIN:STANDARD
TZOFFSETFROM:-0700
TZOFFSETTO:-0800
TZNAME:PST
DTSTART:20211107T090000
END:STANDARD
BEGIN:DAYLIGHT
TZOFFSETFROM:-0800
TZOFFSETTO:-0700
TZNAME:PDT
DTSTART:20220313T100000
END:DAYLIGHT
BEGIN:STANDARD
TZOFFSETFROM:-0700
TZOFFSETTO:-0800
TZNAME:PST
DTSTART:20221106T090000
END:STANDARD
BEGIN:DAYLIGHT
TZOFFSETFROM:-0800
TZOFFSETTO:-0700
TZNAME:PDT
DTSTART:20230312T100000
END:DAYLIGHT
BEGIN:STANDARD
TZOFFSETFROM:-0700
TZOFFSETTO:-0800
TZNAME:PST
DTSTART:20231105T090000
END:STANDARD
END:VTIMEZONE
BEGIN:VEVENT
DTSTART;TZID=America/Vancouver:20220601T130000
DTEND;TZID=America/Vancouver:20220601T150000
DTSTAMP:20260419T065354
CREATED:20220513T205305Z
LAST-MODIFIED:20220513T205505Z
UID:4863-1654088400-1654095600@www.c-tecyouthservices.org
SUMMARY:Clackamas Community College Manufacturing & Welding Job Fair
DESCRIPTION:Clackamas Community College Manufacturing & Welding Job Fair\n\n Clackamas Community College\, Holden Industrial Technology Center\, 9600 Molalla Ave\, Oregon City\, OR 97045 June 1\, 2022 1pm-3pm Register: https://www.eventbrite.com/e/manufacturing-welding-job-fair-registration-332220399157
URL:https://www.c-tecyouthservices.org/event/clackamas-community-college-manufacturing-welding-job-fair/
LOCATION:Clackamas Community College – Holden Industrial Technology Center\, 9600 Molalla Ave\, Oregon City\, OR\, 97045\, United States
CATEGORIES:Community Resource,employment
ORGANIZER;CN="Clackamas Community College- Career Center":MAILTO:careercenter@clackamas.edu
END:VEVENT
BEGIN:VEVENT
DTSTART;TZID=America/Vancouver:20220617T173000
DTEND;TZID=America/Vancouver:20220617T193000
DTSTAMP:20260419T065354
CREATED:20220608T011156Z
LAST-MODIFIED:20220608T011219Z
UID:4894-1655487000-1655494200@www.c-tecyouthservices.org
SUMMARY:CCC Summer Connections Community Celebration
DESCRIPTION:Kick off the summer celebrating Juneteenth and Pride Month at the Summer Connections celebration! Clackamas Community College (CCC)\, Clackamas County and the Clackamas County Equity Coalition are partnering to showcase the local cultural and community events being planned for the summer. \nTop reasons to attend: \n\nFamily friendly!\nFree!\nFood!\nEntertainment!\nAnd more…
URL:https://www.c-tecyouthservices.org/event/clackamas-community-college-summer-connections-community-celebration/
LOCATION:Clackamas Community College- Gregory Forum\, 19600 Molalla Ave.\, Oregon City\, OR\, 97045\, United States
CATEGORIES:Community Resource
END:VEVENT
BEGIN:VEVENT
DTSTART;TZID=America/Vancouver:20220619T110000
DTEND;TZID=America/Vancouver:20220619T160000
DTSTAMP:20260419T065354
CREATED:20220608T013614Z
LAST-MODIFIED:20220608T013615Z
UID:4899-1655636400-1655654400@www.c-tecyouthservices.org
SUMMARY:Portland Pride Parade
DESCRIPTION:The parade steps off at NW Couch St and NW 8th Ave\, traveling east down NW Couch St. Once the parade reaches Naito Pkwy it turns south and proceeds down to the Portland Pride Waterfront Festival.
URL:https://www.c-tecyouthservices.org/event/portland-pride-parade/
LOCATION:Portland Waterfront\, 70 NW Couch St\, Portland\, OR\, 97209\, United States
CATEGORIES:Community Resource
END:VEVENT
BEGIN:VEVENT
DTSTART;TZID=America/Vancouver:20220619T130000
DTEND;TZID=America/Vancouver:20220619T170000
DTSTAMP:20260419T065354
CREATED:20220608T012336Z
LAST-MODIFIED:20220608T012336Z
UID:4896-1655643600-1655658000@www.c-tecyouthservices.org
SUMMARY:City of West Linn Juneteenth Celebration
DESCRIPTION:Celebrate Juneteenth on Sunday June 19 at Willamette Park! We’re excited to feature educational booths\, food and beverage trucks\, live jazz\, world music\, and a DJ\, a bounce house for the kids\, beer cart for the adults\, and more! See our full list of educators\, artists\, and vendors below. \nThis event is for all ages with free admission.  It will take place at the Willamette Park Grandstand near the boat ramp. For more information\, please contact Doug Erickson at derickson@westlinnoregon.gov \n 
URL:https://www.c-tecyouthservices.org/event/city-of-west-linn-juneteenth-celebration/
LOCATION:Willamette Park\, 1100 12th St\, West Linn\, OR\, 97068\, United States
CATEGORIES:Community Resource
END:VEVENT
BEGIN:VEVENT
DTSTART;TZID=America/Vancouver:20220620T100000
DTEND;TZID=America/Vancouver:20220620T120000
DTSTAMP:20260419T065354
CREATED:20220608T003958Z
LAST-MODIFIED:20220608T003958Z
UID:4884-1655719200-1655726400@www.c-tecyouthservices.org
SUMMARY:NWoW Collaboration
DESCRIPTION:NWoW Collaboration: Learn how to understand diversity in the workplace\, respect people’s differences\, share leadership by gathering ideas and using skills of all team members\, and finding positive ways to deal with conflict.
URL:https://www.c-tecyouthservices.org/event/nwow-collaboration-3/
LOCATION:Zoom
CATEGORIES:employment
ORGANIZER;CN="Kelly Beyer":MAILTO:kbeyer@clackesd.k12.or.us
END:VEVENT
BEGIN:VEVENT
DTSTART;TZID=America/Vancouver:20220620T130000
DTEND;TZID=America/Vancouver:20220620T150000
DTSTAMP:20260419T065354
CREATED:20220608T004114Z
LAST-MODIFIED:20220608T004114Z
UID:4885-1655730000-1655737200@www.c-tecyouthservices.org
SUMMARY:NWoW Analysis/Solution Mindset
DESCRIPTION:NWoW Analysis/Solution Mind Set: Learn how to consider different viewpoints\, look at the bigger picture of a work situation\, examine information\, and think about different ways to solve a problem.
URL:https://www.c-tecyouthservices.org/event/nwow-analysis-solution-mindset-2/
LOCATION:Zoom
CATEGORIES:employment
ORGANIZER;CN="Kelly Beyer":MAILTO:kbeyer@clackesd.k12.or.us
END:VEVENT
BEGIN:VEVENT
DTSTART;TZID=America/Vancouver:20220621T100000
DTEND;TZID=America/Vancouver:20220621T120000
DTSTAMP:20260419T065354
CREATED:20220608T004235Z
LAST-MODIFIED:20220608T004235Z
UID:4886-1655805600-1655812800@www.c-tecyouthservices.org
SUMMARY:NWoW Communication
DESCRIPTION:NWoW Communication: Learn how to speak in a professional manner\, communicate using technology\, choose your words wisely and use non-verbal communication\, and be an attentive listener while asking questions or repeating back to make sure you understand correctly.
URL:https://www.c-tecyouthservices.org/event/nwow-communication-3/
LOCATION:Zoom
CATEGORIES:employment
ORGANIZER;CN="Kelly Beyer":MAILTO:kbeyer@clackesd.k12.or.us
END:VEVENT
BEGIN:VEVENT
DTSTART;TZID=America/Vancouver:20220622T100000
DTEND;TZID=America/Vancouver:20220622T120000
DTSTAMP:20260419T065354
CREATED:20220608T004355Z
LAST-MODIFIED:20220608T004355Z
UID:4887-1655892000-1655899200@www.c-tecyouthservices.org
SUMMARY:NWoW Adaptability
DESCRIPTION:NWoW Adaptability: Learn how to notice changes and see opportunities for growth\, stay open to new experiences\, consider a variety of viewpoints\, and handle stress in a positive way.
URL:https://www.c-tecyouthservices.org/event/nwow-adaptability-3/
LOCATION:Zoom
CATEGORIES:employment
ORGANIZER;CN="Kelly Beyer":MAILTO:kbeyer@clackesd.k12.or.us
END:VEVENT
BEGIN:VEVENT
DTSTART;TZID=America/Vancouver:20220622T130000
DTEND;TZID=America/Vancouver:20220622T150000
DTSTAMP:20260419T065354
CREATED:20220608T004445Z
LAST-MODIFIED:20220608T004445Z
UID:4888-1655902800-1655910000@www.c-tecyouthservices.org
SUMMARY:NWoW Self-Awareness
DESCRIPTION:NWoW Self-Awareness: Learn how to know your own personality\, strengths\, and areas of knowledge\, and can maintain self-discipline. You also know how to improve your professional manner by learning guidelines or rules of the work setting\, and look for work opportunities that would be a good match for personal strengths and skills.
URL:https://www.c-tecyouthservices.org/event/nwow-self-awareness-3/
LOCATION:Zoom
CATEGORIES:employment
ORGANIZER;CN="Kelly Beyer":MAILTO:kbeyer@clackesd.k12.or.us
END:VEVENT
BEGIN:VEVENT
DTSTART;TZID=America/Vancouver:20220623T100000
DTEND;TZID=America/Vancouver:20220623T120000
DTSTAMP:20260419T065354
CREATED:20220608T004542Z
LAST-MODIFIED:20220608T004542Z
UID:4889-1655978400-1655985600@www.c-tecyouthservices.org
SUMMARY:NWoW Mock Interview/Interview Readiness
DESCRIPTION:NWoW Mock Interview/Interview Readiness: Go over interview questions and help prepare you to be able to give an outstanding and memorable interview to a potential employer. Also talk about the do’s and don’ts of an interview.
URL:https://www.c-tecyouthservices.org/event/nwow-mock-interview-interview-readiness-3/
LOCATION:Zoom
CATEGORIES:employment
ORGANIZER;CN="Kelly Beyer":MAILTO:kbeyer@clackesd.k12.or.us
END:VEVENT
BEGIN:VEVENT
DTSTART;TZID=America/Vancouver:20220623T130000
DTEND;TZID=America/Vancouver:20220623T150000
DTSTAMP:20260419T065354
CREATED:20220608T004642Z
LAST-MODIFIED:20220608T004642Z
UID:4890-1655989200-1655996400@www.c-tecyouthservices.org
SUMMARY:NWoW Resume Building
DESCRIPTION:NWoW Resume Building: Make/edit your resume so you can stand out to employers.
URL:https://www.c-tecyouthservices.org/event/nwow-resume-building-3/
LOCATION:Zoom
CATEGORIES:employment
ORGANIZER;CN="Kelly Beyer":MAILTO:kbeyer@clackesd.k12.or.us
END:VEVENT
END:VCALENDAR