BEGIN:VCALENDAR
VERSION:2.0
PRODID:-//C-TEC Clackamas Youth Services - ECPv6.15.20//NONSGML v1.0//EN
CALSCALE:GREGORIAN
METHOD:PUBLISH
X-WR-CALNAME:C-TEC Clackamas Youth Services
X-ORIGINAL-URL:https://www.c-tecyouthservices.org
X-WR-CALDESC:Events for C-TEC Clackamas Youth Services
REFRESH-INTERVAL;VALUE=DURATION:PT1H
X-Robots-Tag:noindex
X-PUBLISHED-TTL:PT1H
BEGIN:VTIMEZONE
TZID:America/Vancouver
BEGIN:DAYLIGHT
TZOFFSETFROM:-0800
TZOFFSETTO:-0700
TZNAME:PDT
DTSTART:20210314T100000
END:DAYLIGHT
BEGIN:STANDARD
TZOFFSETFROM:-0700
TZOFFSETTO:-0800
TZNAME:PST
DTSTART:20211107T090000
END:STANDARD
BEGIN:DAYLIGHT
TZOFFSETFROM:-0800
TZOFFSETTO:-0700
TZNAME:PDT
DTSTART:20220313T100000
END:DAYLIGHT
BEGIN:STANDARD
TZOFFSETFROM:-0700
TZOFFSETTO:-0800
TZNAME:PST
DTSTART:20221106T090000
END:STANDARD
BEGIN:DAYLIGHT
TZOFFSETFROM:-0800
TZOFFSETTO:-0700
TZNAME:PDT
DTSTART:20230312T100000
END:DAYLIGHT
BEGIN:STANDARD
TZOFFSETFROM:-0700
TZOFFSETTO:-0800
TZNAME:PST
DTSTART:20231105T090000
END:STANDARD
BEGIN:DAYLIGHT
TZOFFSETFROM:-0800
TZOFFSETTO:-0700
TZNAME:PDT
DTSTART:20240310T100000
END:DAYLIGHT
BEGIN:STANDARD
TZOFFSETFROM:-0700
TZOFFSETTO:-0800
TZNAME:PST
DTSTART:20241103T090000
END:STANDARD
BEGIN:DAYLIGHT
TZOFFSETFROM:-0800
TZOFFSETTO:-0700
TZNAME:PDT
DTSTART:20250309T100000
END:DAYLIGHT
BEGIN:STANDARD
TZOFFSETFROM:-0700
TZOFFSETTO:-0800
TZNAME:PST
DTSTART:20251102T090000
END:STANDARD
END:VTIMEZONE
BEGIN:VEVENT
DTSTART;TZID=America/Vancouver:20220823T130000
DTEND;TZID=America/Vancouver:20220823T150000
DTSTAMP:20260419T062810
CREATED:20220816T001755Z
LAST-MODIFIED:20220816T001755Z
UID:4938-1661259600-1661266800@www.c-tecyouthservices.org
SUMMARY:NWoW Analysis/Solution Mindset
DESCRIPTION:NWoW Analysis/Solution Mind Set: Learn how to consider different viewpoints\, look at the bigger picture of a work situation\, examine\ninformation\, and think about different ways to solve a problem.
URL:https://www.c-tecyouthservices.org/event/nwow-analysis-solution-mindset-3/
LOCATION:Zoom
CATEGORIES:employment
ORGANIZER;CN="Kelly Beyer":MAILTO:kbeyer@clackesd.k12.or.us
END:VEVENT
BEGIN:VEVENT
DTSTART;TZID=America/Vancouver:20220824T110000
DTEND;TZID=America/Vancouver:20220824T130000
DTSTAMP:20260419T062810
CREATED:20220816T001906Z
LAST-MODIFIED:20220816T001906Z
UID:4939-1661338800-1661346000@www.c-tecyouthservices.org
SUMMARY:NWoW Self-Awareness
DESCRIPTION:NWoW Self-Awareness: Learn how to know your own personality\, strengths\, and areas of knowledge\, and can maintain self-discipline. You\nalso know how to improve your professional manner by learning guidelines or rules of the work setting\, and look for work opportunities that\nwould be a good match for personal strengths and skills.
URL:https://www.c-tecyouthservices.org/event/nwow-self-awareness-4/
LOCATION:Zoom
CATEGORIES:employment
ORGANIZER;CN="Kelly Beyer":MAILTO:kbeyer@clackesd.k12.or.us
END:VEVENT
BEGIN:VEVENT
DTSTART;TZID=America/Vancouver:20220824T130000
DTEND;TZID=America/Vancouver:20220824T150000
DTSTAMP:20260419T062810
CREATED:20220816T002627Z
LAST-MODIFIED:20220816T002953Z
UID:4942-1661346000-1661353200@www.c-tecyouthservices.org
SUMMARY:Virtual Health Career Fair
DESCRIPTION:Available apprenticeship opportunities: \n\nMEDICAL ASSISTANT\nPHARMACY TECH\nQUALIFIED MENTAL HEALTH ASSOCIATE\nCERTIFIED ALCOHOL & DRUG COUNSELOR\n\nEarn while you learn! \nRegistered Apprenticeship is a work-\nbased learning model that combines \npaid on-the-job training with related\nclasswork. Apprentices are hired by\nthe employer or transitions into their\nnew role\, as they complete coursework\nto become certified in the field. \nRegister here: \nhttps://us02web.zoom.us/meeting/register/tZYuceqsrz0qGdbfOEYqp3UBV2xBm_rx89qW \nFor more info\, contact Joy Jamerson (817) 201-5765
URL:https://www.c-tecyouthservices.org/event/virtual-health-career-fair/
LOCATION:Virtual
CATEGORIES:Community Resource,employment
END:VEVENT
BEGIN:VEVENT
DTSTART;TZID=America/Vancouver:20220825T130000
DTEND;TZID=America/Vancouver:20220825T140000
DTSTAMP:20260419T062810
CREATED:20220816T002028Z
LAST-MODIFIED:20220816T002028Z
UID:4940-1661432400-1661436000@www.c-tecyouthservices.org
SUMMARY:NWoW Mock Interview/Interview Readiness
DESCRIPTION:NWoW Mock Interview/Interview Readiness: Go over interview questions and help prepare you to be able to give an outstanding and\nmemorable interview to a potential employer. Also talk about the do’s and don’ts of an interview.
URL:https://www.c-tecyouthservices.org/event/nwow-mock-interview-interview-readiness-4/
LOCATION:Zoom
CATEGORIES:employment
ORGANIZER;CN="Kelly Beyer":MAILTO:kbeyer@clackesd.k12.or.us
END:VEVENT
BEGIN:VEVENT
DTSTART;TZID=America/Vancouver:20220825T150000
DTEND;TZID=America/Vancouver:20220825T160000
DTSTAMP:20260419T062810
CREATED:20220816T002136Z
LAST-MODIFIED:20220816T002136Z
UID:4941-1661439600-1661443200@www.c-tecyouthservices.org
SUMMARY:NWoW Resume Building
DESCRIPTION:NWoW Resume Building: Make/edit your resume so you can stand out to employers.
URL:https://www.c-tecyouthservices.org/event/nwow-resume-building-4/
LOCATION:Zoom
CATEGORIES:employment
ORGANIZER;CN="Kelly Beyer":MAILTO:kbeyer@clackesd.k12.or.us
END:VEVENT
BEGIN:VEVENT
DTSTART;TZID=America/Vancouver:20220917T100000
DTEND;TZID=America/Vancouver:20220917T190000
DTSTAMP:20260419T062810
CREATED:20220608T201613Z
LAST-MODIFIED:20220608T201613Z
UID:4915-1663408800-1663441200@www.c-tecyouthservices.org
SUMMARY:Estacada Harvest Festival
DESCRIPTION:Harvest Fest\n\n\n\nPumpkins\, a children’s bike/stroller parade\, and family fun activities! Stay tuned for more information. \nEvent will be on 3rd Avenue between Broadway and Zobrist!
URL:https://www.c-tecyouthservices.org/event/estacada-harvest-festival/
LOCATION:Downtown Estacada\, 320 SW Zobrist St\, Estacada\, OR\, 97023\, United States
CATEGORIES:Community Resource
END:VEVENT
BEGIN:VEVENT
DTSTART;TZID=America/Vancouver:20221007T090000
DTEND;TZID=America/Vancouver:20221007T140000
DTSTAMP:20260419T062810
CREATED:20220608T005348Z
LAST-MODIFIED:20220608T005348Z
UID:4891-1665133200-1665151200@www.c-tecyouthservices.org
SUMMARY:7th Annual ABC Craft Championships
DESCRIPTION:While college debt is rising\, the construction industry in Oregon and SW Washington is booming! Apprenticeship allows recent graduates to enter a career right out of high school. Graduates from our program earn upwards of $60\,000 annually and leave campus debt-free. This is why we are passionate about getting students into the trades! \nMany have never seen\, let alone experienced what the construction trades have to offer. The Craft Championship is an incredible opportunity for everyone to see construction in action and to witness what the future could hold for them. We would love to partner with you to inspire the next generation of craft professionals. \nLunch served 11am-1pm
URL:https://www.c-tecyouthservices.org/event/7th-annual-abc-craft-championships/
LOCATION:Camp Withycomb\, 15300 SE Minuteman Way\, Clackamas\, OR\, 97015\, United States
CATEGORIES:Community Resource
END:VEVENT
BEGIN:VEVENT
DTSTART;VALUE=DATE:20240318
DTEND;VALUE=DATE:20240610
DTSTAMP:20260419T062810
CREATED:20240327T211411Z
LAST-MODIFIED:20240327T211411Z
UID:5032-1710720000-1717977599@www.c-tecyouthservices.org
SUMMARY:Sign Up for HIGH SCHOOL CONNECTIONS SUMMER PROGRAMS
DESCRIPTION:High school students in Clackamas County can participate in college credit programs all year long! Clackamas Community College has four High School Connections programs offered during the regular school year as well as summer programming. \n\n\n\n\nCAREER TECHNICAL EDUCATION (CTE) SUMMER CAMPS\nCCC offers fun and exciting Career and Technical Education (CTE) summer camps that provide college credit opportunities to local high school students\, completely free! Camps are open to students who live and go to school in Clackamas County. Students must be entering grades 9-12 in fall 2024. Lunch will be provided and transportation assistance is available from some area high schools to the college. \nCamps have limited space and will use a weighted lottery to determine placement. The weighted lottery will provide priority placement for underserved students (students of color\, students with disabilities\, students with low socio-economic status and students with limited access to accelerated learning programs). \n\n\n\n\n2024 CTE SUMMER CAMP OFFERINGS\nSave the date! CTE Summer camp will be happening Aug. 12-16\, 9 a.m.-3 p.m. \nCTE SUMMER CAMP OFFERINGS FOR 2024\n\nCriminal Justice Investigation: CJA 199 (two credits)\nGreen Building Construction: GBC-101 (two credits)\nHorticulture: Gardening & Farming: HOR-290 (one credit)\nIntroduction to CNC Machining: MTT-121A (two credits)\nMakerspace: MFG-102 (one credit)\nMedical Assisting: MA-100 (two credits)\nMusic & Film: MUS-106 (one credit) and MUS-147 (one credit)\n\nAll Summer Camps will be held on the Oregon City Campus of Clackamas Community College.\n \nHOW TO SIGN UP FOR CTE SUMMER CAMPS\n\nComplete the form below to sign-up for CCC’s free CTE Summer Camps by June 9.  Students and families will be notified of placement into CTE Summer Camp by June 21. In order to complete the sign-up form\, students must have a CCC ID#. Students can apply to CCC here. It can take one-to-two days after applying to receive a CCC ID#. If you are unsure if a student has a CCC account\, contact hsconnections@clackamas.edu. \n2024 CTE Summer Camp sign-ups are open from March 18-June 9. \nSIGN UP \nIf you have any questions about CTE Summer Camps\, please email hsconnections@clackamas.edu.
URL:https://www.c-tecyouthservices.org/event/sign-up-for-high-school-connections-summer-programs/
LOCATION:Clackamas Community College\, 19600 Molalla Ave.\, Orego City\, OR\, 97015\, United States
ORGANIZER;CN="CCC High School Connections":MAILTO:hsconnections@clackamas.edu
END:VEVENT
BEGIN:VEVENT
DTSTART;VALUE=DATE:20240401
DTEND;VALUE=DATE:20240402
DTSTAMP:20260419T062810
CREATED:20240329T175643Z
LAST-MODIFIED:20240329T175643Z
UID:5040-1711929600-1712015999@www.c-tecyouthservices.org
SUMMARY:Spring Term Classes Begin @ CCC
DESCRIPTION:
URL:https://www.c-tecyouthservices.org/event/spring-term-classes-begin-ccc/
LOCATION:Clackamas Community College\, 19600 Molalla Ave.\, Orego City\, OR\, 97015\, United States
END:VEVENT
BEGIN:VEVENT
DTSTART;TZID=America/Vancouver:20240408T120000
DTEND;TZID=America/Vancouver:20240408T130000
DTSTAMP:20260419T062810
CREATED:20240329T180551Z
LAST-MODIFIED:20240329T180551Z
UID:5042-1712577600-1712581200@www.c-tecyouthservices.org
SUMMARY:CCC Scholarship Workshop- Start Lab Classroom (WC151)
DESCRIPTION:
URL:https://www.c-tecyouthservices.org/event/ccc-scholarship-workshop-start-lab-classroom-wc151/
LOCATION:Clackamas Community College-Wacheno Welcome Center\, 19600 Molalla Ave\, Oregon City\, OR\, 97045\, United States
END:VEVENT
BEGIN:VEVENT
DTSTART;TZID=America/Vancouver:20240409T153000
DTEND;TZID=America/Vancouver:20240409T183000
DTSTAMP:20260419T062810
CREATED:20240327T174840Z
LAST-MODIFIED:20240327T213446Z
UID:5017-1712676600-1712687400@www.c-tecyouthservices.org
SUMMARY:Career Technical Education Showcase & Career Fair
DESCRIPTION:WHAT TO EXPECT:\n\nInteractive showcase: Engage with hands-on demonstrations\, activities and displays from various career technical education programs\, showcasing the skills and knowledge students acquire.\nInformational booths: Explore informational booths that provide insights into different career pathways\, educational programs\, resources and opportunities for further learning.\nNetworking opportunities: Connect with industry professionals and educators to discuss potential career paths and educational pursuits.\n\nThis is a great opportunity to discover the multitude of career options available and make informed decisions about your future. \nPlease feel free to reach out to us if you have any questions or need additional information. We look forward to welcoming you and your family to the CTE Showcase and Career Fair! \nPROGRAMS FEATURED INCLUDE:\n\nApprenticeship\nAuto body/collision repair and refinishing technology\nAutomotive service technology\nBusiness\nComputer science\nElectronics engineering technology\nHealth sciences\nHorticulture\nIndustrial maintenance technology\nMachine tool technology/Computer-aided manufacturing\nRenewable energy technology\nWater and environmental technology\nWelding\nWildland fire\n\nInstructors will be on hand to talk with you about their programs. Tour the buildings\, shops\, and labs and meet with employers. Learn how to pay for college\, including free money like scholarships and grants. \nREGISTER NOW! \nFREE TUITION WAIVERS!\nParticipants at this event may receive one of 25 FREE tuition waivers good for up to four credits at CCC – a value of $484. \nFREE FOOD\n\nSteam-Werkz: Veggie\, beef and sausage dogs.\nSnax Truck: Burgers\, pretzels and nachos.\nLupita’s Mexican: Tacos\, tamales and burritos\n\nGluten-free options are available. \n\n\n\n\n\nSCHOLARSHIPS\nEach year\, the CCC Foundation raises funds to provide scholarships to new and returning students. Students planning to attend CCC to pursue a degree or certificate can apply through April 24. Last academic year one in three applicants received a scholarship\, and the average award covers nearly half of CCC’s annual full-time tuition. \nOne application qualifies students for hundreds of scholarships\, and students don’t need to have a perfect GPA to qualify. Some of the scholarships options are: \n\nFirst in family to attend college\nMembers of military families\nSingle parents\nTransfer students\nCareer technical education students\nTraining for specific careers\nFinancial need\nStudents formerly attended a district high school\n\nFor more information about scholarships\, help with applying and the application\, visit our Scholarships page. \n  \n\n\n\n\nPARTICIPATING COMPANIES\n\nAmerican Medical Response\nArea I Plumbers\nArea I Sign Installers\nArea I Painters\nAstronics-PECO\nBoeing Co.\nBrix Paving Northwest Inc.\nClackamas County Children’s Commission\nCRB Manufacturing Inc.\nDevNW\nEnoch Precision Machining\nEVRAZ Oregon Steel Mills\nGresham Ford\nGrovTec U.S. Inc.\nHealth Wright Products\nIEC of Oregon\nIntel Corporation\nLam Research\nMarks Brothers Inc.\nMicrochip Tech Inc.\nNextEra Energy\nOak Lodge Water Services\nPacific Swiss & Manufacturing Inc.\nRiver City Roofing\nRogers Machinery Company Inc.\nSCREEN SPE USA\nShields Manufacturing\nTosoh Quartz\nUA Road Sprinkler Fitter Local 669\nU.S. Forest Service\, Columbia River Gorge National Scenic Area\nUSFS Mt. Hood Fire Management West Zone\nWarn Industries
URL:https://www.c-tecyouthservices.org/event/career-technical-education-showcase-career-fair/
LOCATION:Clackamas Community College – Holden Industrial Technology Center\, 9600 Molalla Ave\, Oregon City\, OR\, 97045\, United States
ORGANIZER;CN="Tom Brown":MAILTO:thomasb@clackamas.edu
END:VEVENT
BEGIN:VEVENT
DTSTART;VALUE=DATE:20240414
DTEND;VALUE=DATE:20240415
DTSTAMP:20260419T062810
CREATED:20240329T175909Z
LAST-MODIFIED:20240329T175909Z
UID:5041-1713052800-1713139199@www.c-tecyouthservices.org
SUMMARY:Last Day to Drop Class with a Refund @ CCC
DESCRIPTION:
URL:https://www.c-tecyouthservices.org/event/last-day-to-drop-class-with-a-refund-ccc/
LOCATION:Clackamas Community College\, 19600 Molalla Ave.\, Orego City\, OR\, 97015\, United States
END:VEVENT
BEGIN:VEVENT
DTSTART;TZID=America/Vancouver:20240419T084500
DTEND;TZID=America/Vancouver:20240419T134500
DTSTAMP:20260419T062810
CREATED:20240327T180202Z
LAST-MODIFIED:20240327T180202Z
UID:5018-1713516300-1713534300@www.c-tecyouthservices.org
SUMMARY:2024 NWUCA Construction Career Day
DESCRIPTION:Booth Exhibits\, Hands-on Activities and Heavy Equipment will be at the career day event \n2 SESSIONS: 8:45-11:00 session 1 & 11:30-1:45 session 2
URL:https://www.c-tecyouthservices.org/event/2024-nwuca-construction-career-day/
LOCATION:Northwest College of Construction\, 8111 NE Holman St.\, Portland\, OR\, 97218\, United States
END:VEVENT
BEGIN:VEVENT
DTSTART;TZID=America/Vancouver:20240509T110000
DTEND;TZID=America/Vancouver:20240509T140000
DTSTAMP:20260419T062810
CREATED:20240327T182912Z
LAST-MODIFIED:20240327T192416Z
UID:5020-1715252400-1715263200@www.c-tecyouthservices.org
SUMMARY:Portland Young Parent Fair
DESCRIPTION:The Greater Portland Young Parent Fair is an event to empower young parents in connecting with local resources and opportunities while having fun with their families. Theme for 2023 is “Sports”. Rock your favorite sports team gear and receive a extra raffle ticket!
URL:https://www.c-tecyouthservices.org/event/portland-young-parent-fair/
LOCATION:KingPins Family Entertainment Center\, 3550 SE 92nd Ave.\, Portland\, OR\, 97266\, United States
END:VEVENT
BEGIN:VEVENT
DTSTART;VALUE=DATE:20240510
DTEND;VALUE=DATE:20240511
DTSTAMP:20260419T062810
CREATED:20240506T211510Z
LAST-MODIFIED:20240506T211554Z
UID:5053-1715299200-1715385599@www.c-tecyouthservices.org
SUMMARY:CCC-Last day to Petition for graduation
DESCRIPTION:
URL:https://www.c-tecyouthservices.org/event/ccc-spring-term-balance-due/
END:VEVENT
BEGIN:VEVENT
DTSTART;VALUE=DATE:20240510
DTEND;VALUE=DATE:20240511
DTSTAMP:20260419T062810
CREATED:20240506T212238Z
LAST-MODIFIED:20240506T212238Z
UID:5056-1715299200-1715385599@www.c-tecyouthservices.org
SUMMARY:CCC-Spring term Balance due
DESCRIPTION:
URL:https://www.c-tecyouthservices.org/event/ccc-spring-term-balance-due-2/
END:VEVENT
BEGIN:VEVENT
DTSTART;VALUE=DATE:20240513
DTEND;VALUE=DATE:20240514
DTSTAMP:20260419T062810
CREATED:20240329T181408Z
LAST-MODIFIED:20240329T181408Z
UID:5045-1715558400-1715644799@www.c-tecyouthservices.org
SUMMARY:Summer Term Registration Begins
DESCRIPTION:
URL:https://www.c-tecyouthservices.org/event/summer-term-registration-begins/
LOCATION:Clackamas Community College\, 19600 Molalla Ave.\, Orego City\, OR\, 97015\, United States
END:VEVENT
BEGIN:VEVENT
DTSTART;VALUE=DATE:20240513
DTEND;VALUE=DATE:20240619
DTSTAMP:20260419T062810
CREATED:20240506T211735Z
LAST-MODIFIED:20240506T211735Z
UID:5054-1715558400-1718755199@www.c-tecyouthservices.org
SUMMARY:CCC-Summer term registration begins
DESCRIPTION:
URL:https://www.c-tecyouthservices.org/event/ccc-summer-term-registration-begins/
END:VEVENT
BEGIN:VEVENT
DTSTART;VALUE=DATE:20240517
DTEND;VALUE=DATE:20240519
DTSTAMP:20260419T062810
CREATED:20240327T184227Z
LAST-MODIFIED:20240327T184227Z
UID:5022-1715904000-1716076799@www.c-tecyouthservices.org
SUMMARY:Oregon Tradeswomen's Annual Career Fair
DESCRIPTION:Friday\, May 17 – 8:30AM – 2:30PM\nSchool Day – Registration Required \nSaturday\, May 18 – 9:00AM – 3:00PM\nPublic Day – Free and open to everyone \nA hands-on\, trades related Fair highlighting lucrative\, debt-free career options in the skilled construction trades. Most workshops are managed by tradeswomen\, illustrating the power and potential of a truly diverse workforce. \nWhile the event is focused on presenting these career options to female identified job seekers\, everyone is welcome to attend.
URL:https://www.c-tecyouthservices.org/event/oregon-tradeswomens-annual-career-fair/
LOCATION:Oregon Tradeswomen\, 16021 NE Airport Way\, Portland\, OR\, 97230\, United States
END:VEVENT
BEGIN:VEVENT
DTSTART;VALUE=DATE:20240520
DTEND;VALUE=DATE:20240521
DTSTAMP:20260419T062810
CREATED:20240329T181708Z
LAST-MODIFIED:20240329T181708Z
UID:5046-1716163200-1716249599@www.c-tecyouthservices.org
SUMMARY:Fall Term Registration Begins for CCC
DESCRIPTION:
URL:https://www.c-tecyouthservices.org/event/fall-term-registration-begins-for-ccc/
LOCATION:Clackamas Community College\, 19600 Molalla Ave.\, Orego City\, OR\, 97015\, United States
END:VEVENT
BEGIN:VEVENT
DTSTART;VALUE=DATE:20240524
DTEND;VALUE=DATE:20240902
DTSTAMP:20260419T062810
CREATED:20240524T174758Z
LAST-MODIFIED:20240524T182451Z
UID:5073-1716508800-1725235199@www.c-tecyouthservices.org
SUMMARY:Trainings
DESCRIPTION:Clackamas Community College High School Connections Summer Program\nhttps://www.clackamas.edu/academics/academic-offerings/high-school-connections/summer-programs\nCamps will be open to students who live and go to school in Clackamas County. Students must be entering grades 9-12 in fall 2024. Lunch will be provided and transportation assistance is available from the student’s high school to the college. Camp will run Monday\, Aug. 14 through Friday\, Aug.18 from \n 9 a.m-3 p.m. on the Clackamas Community College campus (Oregon City and Harmony). \nMusic Summer Camp\nhttps://www.clackamas.edu/campus-life/arts-performance/music-summer-camps\nStudio Voices Summer Music Camp July 22-26                                                                                                                                Clackamas Summer Band Camp July 15-19 \nCareer & Technical Education Summer Camp\nhttp://www.clackamas.edu/cte-summer-camps\nMedical Assisting\, Music & Film\, Intro to Green Building\, Horticulture-Gardening & Farming\, Intro to CNC Machining\, Makerspace\, Criminal Justice Investigation.
URL:https://www.c-tecyouthservices.org/event/trainings/
END:VEVENT
BEGIN:VEVENT
DTSTART;VALUE=DATE:20240524
DTEND;VALUE=DATE:20240525
DTSTAMP:20260419T062810
CREATED:20240506T211849Z
LAST-MODIFIED:20240506T212318Z
UID:5055-1716508800-1716595199@www.c-tecyouthservices.org
SUMMARY:CCC-Last day to drop and receive a "W"
DESCRIPTION:
URL:https://www.c-tecyouthservices.org/event/ccc-last-day-to-drip-and-receive-a-w/
END:VEVENT
BEGIN:VEVENT
DTSTART;TZID=America/Vancouver:20240717T110000
DTEND;TZID=America/Vancouver:20240717T150000
DTSTAMP:20260419T062810
CREATED:20240708T170428Z
LAST-MODIFIED:20240708T170428Z
UID:5094-1721214000-1721228400@www.c-tecyouthservices.org
SUMMARY:Job Fair\, Trades and Transportation Sectors
DESCRIPTION:WorkSource Oregon will host more than 18 employers\, unions and training providers involved with the trades and transportation sectors at their SE Works location.
URL:https://www.c-tecyouthservices.org/event/job-fair-trades-and-transportation-sectors/
LOCATION:SE Works\, 6401 SE. Foster Rd\, Portland\, OR\, 97206\, United States
END:VEVENT
BEGIN:VEVENT
DTSTART;TZID=America/Vancouver:20240719T100000
DTEND;TZID=America/Vancouver:20240719T113000
DTSTAMP:20260419T062810
CREATED:20240708T170638Z
LAST-MODIFIED:20240708T170638Z
UID:5096-1721383200-1721388600@www.c-tecyouthservices.org
SUMMARY:COPE Health Scholars Program Info Session
DESCRIPTION:At this virtual information session\, participants will learn about the COPE Health Scholars program\, which offers firsthand experience in both clinical and administrative healthcare settings and exposure to many different healthcare careers for aspiring healthcare professionals. The 15-month program at Adventist Health in Portland is accepting applications through July 31 for its fall 2024 program.
URL:https://www.c-tecyouthservices.org/event/cope-health-scholars-program-info-session/
END:VEVENT
BEGIN:VEVENT
DTSTART;TZID=America/Vancouver:20240812T090000
DTEND;TZID=America/Vancouver:20240816T150000
DTSTAMP:20260419T062810
CREATED:20240327T211016Z
LAST-MODIFIED:20240327T211016Z
UID:5029-1723453200-1723820400@www.c-tecyouthservices.org
SUMMARY:Clackamas Community College High School Connections Summer Program
DESCRIPTION:CTE SUMMER CAMP OFFERINGS FOR 2024\n\nCriminal Justice Investigation: CJA 199 (two credits)\nGreen Building Construction: GBC-101 (two credits)\nHorticulture: Gardening & Farming: HOR-290 (one credit)\nIntroduction to CNC Machining: MTT-121A (two credits)\nMakerspace: MFG-102 (one credit)\nMedical Assisting: MA-100 (two credits)\nMusic & Film: MUS-106 (one credit) and MUS-147 (one credit)\n\nAll Summer Camps will be held on the Oregon City Campus of Clackamas Community College.\n \nHOW TO SIGN UP FOR CTE SUMMER CAMPS\n\nComplete the form below to sign-up for CCC’s free CTE Summer Camps by June 9.  Students and families will be notified of placement into CTE Summer Camp by June 21. In order to complete the sign-up form\, students must have a CCC ID#. Students can apply to CCC here. It can take one-to-two days after applying to receive a CCC ID#. If you are unsure if a student has a CCC account\, contact hsconnections@clackamas.edu. \n2024 CTE Summer Camp sign-ups are open from March 18-June 9. \nSIGN UP \nIf you have any questions about CTE Summer Camps\, please email hsconnections@clackamas.edu.
URL:https://www.c-tecyouthservices.org/event/clackamas-community-college-high-school-connections-summer-program/
LOCATION:Clackamas Community College\, 19600 Molalla Ave.\, Orego City\, OR\, 97015\, United States
ORGANIZER;CN="CCC High School Connections":MAILTO:hsconnections@clackamas.edu
END:VEVENT
BEGIN:VEVENT
DTSTART;TZID=America/Vancouver:20240821T110000
DTEND;TZID=America/Vancouver:20240821T150000
DTSTAMP:20260419T062810
CREATED:20240327T204545Z
LAST-MODIFIED:20240327T204545Z
UID:5026-1724238000-1724252400@www.c-tecyouthservices.org
SUMMARY:Portland Diversity Career Fair
DESCRIPTION:IN-PERSON Meetings w/ Recruiters ATTENTION – PORTLAND Job & Career Seekers! 100’s of Job Positions from Major Employers
URL:https://www.c-tecyouthservices.org/event/portland-diversity-career-fair/
LOCATION:DoubleTree by Hilton Portland\, 1000 NE Multnomah St\, Portland\, OR\, 97232\, United States
END:VEVENT
BEGIN:VEVENT
DTSTART;TZID=America/Vancouver:20241202T080000
DTEND;TZID=America/Vancouver:20241206T170000
DTSTAMP:20260419T062810
CREATED:20241125T164226Z
LAST-MODIFIED:20241125T164226Z
UID:5100-1733126400-1733504400@www.c-tecyouthservices.org
SUMMARY:Last week of school
DESCRIPTION:
URL:https://www.c-tecyouthservices.org/event/last-week-of-school/
LOCATION:Clackamas Community College-Wacheno Welcome Center\, 19600 Molalla Ave\, Oregon City\, OR\, 97045\, United States
END:VEVENT
BEGIN:VEVENT
DTSTART;TZID=America/Vancouver:20241203T110000
DTEND;TZID=America/Vancouver:20241203T150000
DTSTAMP:20260419T062810
CREATED:20241125T164007Z
LAST-MODIFIED:20241125T164007Z
UID:5099-1733223600-1733238000@www.c-tecyouthservices.org
SUMMARY:CCC Campus Tour
DESCRIPTION:Register through CCC My Clackamas
URL:https://www.c-tecyouthservices.org/event/ccc-campus-tour/
LOCATION:Clackamas Community College-Wacheno Welcome Center\, 19600 Molalla Ave\, Oregon City\, OR\, 97045\, United States
END:VEVENT
BEGIN:VEVENT
DTSTART;TZID=America/Vancouver:20241209T080000
DTEND;TZID=America/Vancouver:20241213T170000
DTSTAMP:20260419T062810
CREATED:20241125T164328Z
LAST-MODIFIED:20241125T164328Z
UID:5101-1733731200-1734109200@www.c-tecyouthservices.org
SUMMARY:Finals Week
DESCRIPTION:
URL:https://www.c-tecyouthservices.org/event/finals-week/
LOCATION:Clackamas Community College-Wacheno Welcome Center\, 19600 Molalla Ave\, Oregon City\, OR\, 97045\, United States
END:VEVENT
BEGIN:VEVENT
DTSTART;VALUE=DATE:20241210
DTEND;VALUE=DATE:20241211
DTSTAMP:20260419T062810
CREATED:20241125T164455Z
LAST-MODIFIED:20241125T164455Z
UID:5102-1733788800-1733875199@www.c-tecyouthservices.org
SUMMARY:Oregon Promise Last Day to Register
DESCRIPTION:
URL:https://www.c-tecyouthservices.org/event/oregon-promise-last-day-to-register/
END:VEVENT
END:VCALENDAR