BEGIN:VCALENDAR
VERSION:2.0
PRODID:-//C-TEC Clackamas Youth Services - ECPv6.15.20//NONSGML v1.0//EN
CALSCALE:GREGORIAN
METHOD:PUBLISH
X-WR-CALNAME:C-TEC Clackamas Youth Services
X-ORIGINAL-URL:https://www.c-tecyouthservices.org
X-WR-CALDESC:Events for C-TEC Clackamas Youth Services
REFRESH-INTERVAL;VALUE=DURATION:PT1H
X-Robots-Tag:noindex
X-PUBLISHED-TTL:PT1H
BEGIN:VTIMEZONE
TZID:America/Vancouver
BEGIN:DAYLIGHT
TZOFFSETFROM:-0800
TZOFFSETTO:-0700
TZNAME:PDT
DTSTART:20210314T100000
END:DAYLIGHT
BEGIN:STANDARD
TZOFFSETFROM:-0700
TZOFFSETTO:-0800
TZNAME:PST
DTSTART:20211107T090000
END:STANDARD
BEGIN:DAYLIGHT
TZOFFSETFROM:-0800
TZOFFSETTO:-0700
TZNAME:PDT
DTSTART:20220313T100000
END:DAYLIGHT
BEGIN:STANDARD
TZOFFSETFROM:-0700
TZOFFSETTO:-0800
TZNAME:PST
DTSTART:20221106T090000
END:STANDARD
BEGIN:DAYLIGHT
TZOFFSETFROM:-0800
TZOFFSETTO:-0700
TZNAME:PDT
DTSTART:20230312T100000
END:DAYLIGHT
BEGIN:STANDARD
TZOFFSETFROM:-0700
TZOFFSETTO:-0800
TZNAME:PST
DTSTART:20231105T090000
END:STANDARD
END:VTIMEZONE
BEGIN:VEVENT
DTSTART;TZID=America/Vancouver:20220523T130000
DTEND;TZID=America/Vancouver:20220523T150000
DTSTAMP:20260419T125016
CREATED:20220502T224501Z
LAST-MODIFIED:20220502T224501Z
UID:4844-1653310800-1653318000@www.c-tecyouthservices.org
SUMMARY:NWoW Adaptability
DESCRIPTION:NWoW Adaptability: Learn how to notice changes and see opportunities for growth\, stay open to new experiences\, consider a variety of\nviewpoints\, and handle stress in a positive way.
URL:https://www.c-tecyouthservices.org/event/nwow-adaptability-2/
LOCATION:Zoom
CATEGORIES:employment
ORGANIZER;CN="Kelly Beyer":MAILTO:kbeyer@clackesd.k12.or.us
END:VEVENT
BEGIN:VEVENT
DTSTART;TZID=America/Vancouver:20220523T100000
DTEND;TZID=America/Vancouver:20220523T120000
DTSTAMP:20260419T125016
CREATED:20220502T224316Z
LAST-MODIFIED:20220502T224316Z
UID:4843-1653300000-1653307200@www.c-tecyouthservices.org
SUMMARY:NWoW Self-Awareness
DESCRIPTION:NWoW Self-Awareness: Learn how to know your own personality\, strengths\, and areas of knowledge\, and can maintain self-discipline. You\nalso know how to improve your professional manner by learning guidelines or rules of the work setting\, and look for work opportunities that\nwould be a good match for personal strengths and skills.
URL:https://www.c-tecyouthservices.org/event/nwow-self-awareness-2/
LOCATION:Zoom
CATEGORIES:employment
ORGANIZER;CN="Kelly Beyer":MAILTO:kbeyer@clackesd.k12.or.us
END:VEVENT
BEGIN:VEVENT
DTSTART;TZID=America/Vancouver:20220521T113000
DTEND;TZID=America/Vancouver:20220521T133000
DTSTAMP:20260419T125016
CREATED:20220426T192116Z
LAST-MODIFIED:20220426T192116Z
UID:4840-1653132600-1653139800@www.c-tecyouthservices.org
SUMMARY:Bridging Cultures: Saturdays in the Park
DESCRIPTION:Bridging Cultures mission is to build relationships that create an equitable community. \nSaturdays in the Park \nMay 21 – Locust St Park – 11:30 am to 1:30pm\nJune 4 – Locust St Park – 11:30 am to 1:30pm\nJune 18 – Maple St Park – 11:30 am to 1:30pm\nJuly 16 – Wait Park – 6pm to 8pm\nJuly 30 – Locust St Park – 11:30 am to 1:30pm\nAugust 13 – Locust St Park – 11:30 am to 1:30pm\nAugust 27 – Locust St Park – 11:30 am to 1:30pm\nSeptember 10 – Wait Park – 11:30am- 1:30pm
URL:https://www.c-tecyouthservices.org/event/bridging-cultures-saturdays-in-the-park/
LOCATION:Locust Street Park\, 265 S Locust St\, Canby\, OR\, 97013\, United States
CATEGORIES:Community Resource
END:VEVENT
BEGIN:VEVENT
DTSTART;TZID=America/Vancouver:20220521T100000
DTEND;TZID=America/Vancouver:20220521T133000
DTSTAMP:20260419T125016
CREATED:20220513T014421Z
LAST-MODIFIED:20220513T014421Z
UID:4857-1653127200-1653139800@www.c-tecyouthservices.org
SUMMARY:Multnomah County Youth Mental Health Forum 2022
DESCRIPTION:Multnomah County YOUTH MENTAL HEALTH FORUM 2022\nJoin peers and policy makers for a listening session to raise awareness and empower youth voice (ages 13-21) in talking about youth mental health challenges and solutions. This is a free event hosted by Multnomah County Commissioner Sharon Meieran in partnership with youth leaders and community organizations.\nThe event will include opening remarks from Commissioner Meieran\, invited speakers Portland Commissioner JoAnn Hardesty and youth leaders\, small group conversations\, free lunch\, resources\, & affinity spaces.\n\n\nDate: Saturday\, May 21\, 2022\n\n\nTime: 10:00 am-1:30 pm9:30 am: Doors Open\n10:00 am-12:00 pm: Main Event\n12:00 pm-12:30 pm: Free Lunch and Resource Fair\n12:30 pm-1:30 pm: Affinity Spaces\, Resource Fair Continued\, and Closing\n\n\nLocation: DoubleTree by Hilton Portland (1000 NE Multnomah St\, Portland\, OR 97232) and virtual\n\n\n*Incentives: peer to peer connection\, employee passes to local sportswear stores\, lunch\, and more!\n\n\n*Some incentives are only available for youth who attend in person.\nRegistration: https://docs.google.com/…/1FAIpQLSfGDysX9hYMhd…/viewform\nVolunteer sign-up: https://docs.google.com/…/1FAIpQLSfB4Ou6U0I8Gz…/viewform\nMore info: https://www.multco.us/commissio…/youth-mental-health-forum
URL:https://www.c-tecyouthservices.org/event/multnomah-county-youth-mental-health-forum-2022/
LOCATION:DoubleTree by Hilton Portland\, 1000 NE Multnomah St\, Portland\, OR\, 97232\, United States
CATEGORIES:Community Resource
END:VEVENT
BEGIN:VEVENT
DTSTART;TZID=America/Vancouver:20220518T170000
DTEND;TZID=America/Vancouver:20220518T180000
DTSTAMP:20260419T125016
CREATED:20220502T231124Z
LAST-MODIFIED:20220502T231124Z
UID:4854-1652893200-1652896800@www.c-tecyouthservices.org
SUMMARY:Signs of Hope Rally
DESCRIPTION:We welcome you to participate in one (or both) of the sign rally events occurring on May 11 and 18. We are looking forward to infusing hope and connection into our community and need your help! All you need is you – we bring the signs! Sign up online at https://www.signupgenius.com/go/8050f4da4ab28a3fa7-2022
URL:https://www.c-tecyouthservices.org/event/signs-of-hope-rally-2/
LOCATION:Intersection of Sunnyside Rd & Hwy 213\, 12479 SE 82nd Ave\, Portland\, OR\, 97266\, United States
CATEGORIES:Community Resource
END:VEVENT
BEGIN:VEVENT
DTSTART;TZID=America/Vancouver:20220511T070000
DTEND;TZID=America/Vancouver:20220511T080000
DTSTAMP:20260419T125016
CREATED:20220502T230723Z
LAST-MODIFIED:20220502T230723Z
UID:4852-1652252400-1652256000@www.c-tecyouthservices.org
SUMMARY:Signs of Hope Rally
DESCRIPTION:We welcome you to participate in one (or both) of the sign rally events occurring on May 11 and 18. We are looking forward to infusing hope and connection into our community and need your help! All you need is you – we bring the signs! Sign up online at https://www.signupgenius.com/go/8050f4da4ab28a3fa7-2022
URL:https://www.c-tecyouthservices.org/event/signs-of-hope-rally/
LOCATION:Beavercreek & Kaen Rd\, Intersection of Beavercreek & Kaen Rd\, Oregon City\, OR\, 97045\, United States
CATEGORIES:Community Resource
END:VEVENT
BEGIN:VEVENT
DTSTART;TZID=America/Vancouver:20220509T193000
DTEND;TZID=America/Vancouver:20220509T203000
DTSTAMP:20260419T125016
CREATED:20220426T190429Z
LAST-MODIFIED:20220426T190429Z
UID:4839-1652124600-1652128200@www.c-tecyouthservices.org
SUMMARY:NetKids: Understanding the Impact of Digital Exposure on the Development of Young Children
DESCRIPTION:NetKids: Understanding the impact of digital exposure on the development of young children\nMonday May 9\, 2022\, 12pm & 7:30pm\nRegister for the online event here: https://www.surveymonkey.com/r/Netkids2022
URL:https://www.c-tecyouthservices.org/event/netkids-understanding-the-impact-of-digital-exposure-on-the-development-of-young-children/
CATEGORIES:Community Resource
END:VEVENT
BEGIN:VEVENT
DTSTART;TZID=America/Vancouver:20220509T120000
DTEND;TZID=America/Vancouver:20220509T130000
DTSTAMP:20260419T125016
CREATED:20220426T190038Z
LAST-MODIFIED:20220426T190143Z
UID:4837-1652097600-1652101200@www.c-tecyouthservices.org
SUMMARY:NetKids: Understanding the Impact of Digital Exposure on the Development of Young Children
DESCRIPTION:NetKids: Understanding the impact of digital exposure on the development of young children\nMonday May 9\, 2022\, 12pm & 7:30pm\nRegister for the online event here: https://www.surveymonkey.com/r/Netkids2022
URL:https://www.c-tecyouthservices.org/event/netkids-netkids-understanding-the-impact-of-digital-exposure-on-the-development-of-young-children/
CATEGORIES:Community Resource
END:VEVENT
BEGIN:VEVENT
DTSTART;TZID=America/Vancouver:20220504T190000
DTEND;TZID=America/Vancouver:20220504T203000
DTSTAMP:20260419T125016
CREATED:20220426T183318Z
LAST-MODIFIED:20220426T183318Z
UID:4836-1651690800-1651696200@www.c-tecyouthservices.org
SUMMARY:Fake & Fatal: Fentanyl Awareness Event
DESCRIPTION:Fake & Fatal: What Parents & Teens Need to Know\nMay 4\, 2022\n7pm-8:30pm\nSynthetic opiods\, deception\, and online access have made the drug scene more dangerous than ever before. Arm yourself with knowledge.\nPlease join us for our Fentanyl Awareness event\, featuring expert speakers & personal stories.\nRegister for the virtual event here: https://www.eventbrite.com/e/fake-fatal-what-parents-and-teens-need-to-know-virtual-tickets-325353831067
URL:https://www.c-tecyouthservices.org/event/fake-fatal-fentanyl-awareness-event/
LOCATION:Zoom
CATEGORIES:Community Resource
END:VEVENT
BEGIN:VEVENT
DTSTART;TZID=America/Vancouver:20220504T121500
DTEND;TZID=America/Vancouver:20220504T130000
DTSTAMP:20260419T125016
CREATED:20220502T230158Z
LAST-MODIFIED:20220502T230158Z
UID:4850-1651666500-1651669200@www.c-tecyouthservices.org
SUMMARY:May is Mental Health Awareness Month Kickoff Event
DESCRIPTION:During the month of May\, we will be highlighting the importance of connection. Join us on May 4 from 12:15 p.m. to 1 p.m. in the Circle of Honor at 2051 Kaen Road in Oregon City for a signs of hope planting to kick off the month and infuse hope into our community!
URL:https://www.c-tecyouthservices.org/event/may-is-mental-health-awareness-month-kickoff-event/
LOCATION:2051 Kaen Rd\, 2051 Kaen Rd\, Oregon City\, OR\, 97045\, United States
CATEGORIES:Community Resource
END:VEVENT
BEGIN:VEVENT
DTSTART;TZID=America/Vancouver:20220504T110000
DTEND;TZID=America/Vancouver:20220504T140000
DTSTAMP:20260419T125016
CREATED:20220419T211439Z
LAST-MODIFIED:20220419T211439Z
UID:4832-1651662000-1651672800@www.c-tecyouthservices.org
SUMMARY:Greater Portland Young Parent Fair
DESCRIPTION:Greater Portland Young Parent Fair – -Free for young & expecting parents age 25 and under\nMay 4\, 2022 | 11am – 2pm\nKingPins Family Entertainment Center\n3550 SE 92nd Ave\, Portland\, OR 97266\n-Free bowling\, arcade games\, raffle\n-Free pizza\, snacks\, beverages\n-Cool swag\, raffle & door prizes\n-Resources: meet local resources offering support with employment\, financial\, food\, health\, housing\, legal\, support groups\, & more!\nhttps://squirespdx.wixsite.com/pdxtpf
URL:https://www.c-tecyouthservices.org/event/greater-portland-young-parent-fair/
LOCATION:KingPins Family Entertainment Center\, 3550 SE 92nd Ave.\, Portland\, OR\, 97266\, United States
CATEGORIES:Community Resource,education,employment
END:VEVENT
BEGIN:VEVENT
DTSTART;TZID=America/Vancouver:20220430T090000
DTEND;TZID=America/Vancouver:20220430T120000
DTSTAMP:20260419T125016
CREATED:20220419T200723Z
LAST-MODIFIED:20220419T200723Z
UID:4824-1651309200-1651320000@www.c-tecyouthservices.org
SUMMARY:Community Resource Fair
DESCRIPTION:Community Resource Fair\nSat April 30\, 2022 9am-12pm\nBreakside Brewery Parking Lot 5821 SE International Way Milwaukie OR 97222
URL:https://www.c-tecyouthservices.org/event/community-resource-fair/
LOCATION:Breakside Brewery Parking Lot\, 5821 SE International Way\, Milwaukie\, OR\, 97222\, United States
CATEGORIES:Community Resource,employment
END:VEVENT
BEGIN:VEVENT
DTSTART;TZID=America/Vancouver:20220428T173000
DTEND;TZID=America/Vancouver:20220428T183000
DTSTAMP:20260419T125016
CREATED:20220419T195925Z
LAST-MODIFIED:20220419T195925Z
UID:4820-1651167000-1651170600@www.c-tecyouthservices.org
SUMMARY:Young Adult Smart Recovery Support Group
DESCRIPTION:Young Adult Smart Recovery Support Group\nJoin the Vibrant Future Coalition for a weekly recovery support group\, Thursdays\, starting April 21\, 5:30-6:30pm\nRegister in advance here: https://tinyurl.com/vfcsmartrecoverygroup
URL:https://www.c-tecyouthservices.org/event/young-adult-smart-recovery-support-group-2/
CATEGORIES:Community Resource
END:VEVENT
BEGIN:VEVENT
DTSTART;TZID=America/Vancouver:20220428T130000
DTEND;TZID=America/Vancouver:20220428T150000
DTSTAMP:20260419T125016
CREATED:20220419T194013Z
LAST-MODIFIED:20220419T194013Z
UID:4811-1651150800-1651158000@www.c-tecyouthservices.org
SUMMARY:NWoW Mock Interview/Interview Readiness
DESCRIPTION:NWoW Mock Interview/Interview Readiness: Go over interview questions and help prepare you to be able to give an outstanding and memorable interview to a potential employer. Also talk about the do’s and don’ts of an interview
URL:https://www.c-tecyouthservices.org/event/nwow-mock-interview-interview-readiness/
CATEGORIES:employment
ORGANIZER;CN="Kelly Beyer":MAILTO:kbeyer@clackesd.k12.or.us
END:VEVENT
BEGIN:VEVENT
DTSTART;TZID=America/Vancouver:20220428T100000
DTEND;TZID=America/Vancouver:20220428T120000
DTSTAMP:20260419T125016
CREATED:20220419T193910Z
LAST-MODIFIED:20220419T193910Z
UID:4810-1651140000-1651147200@www.c-tecyouthservices.org
SUMMARY:NWoW Resume Building
DESCRIPTION:NWoW Resume Building: Make/edit your resume so you can stand out to employers.
URL:https://www.c-tecyouthservices.org/event/nwow-resume-building/
CATEGORIES:employment
ORGANIZER;CN="Kelly Beyer":MAILTO:kbeyer@clackesd.k12.or.us
END:VEVENT
BEGIN:VEVENT
DTSTART;TZID=America/Vancouver:20220427T180000
DTEND;TZID=America/Vancouver:20220427T200000
DTSTAMP:20260419T125016
CREATED:20220419T195546Z
LAST-MODIFIED:20220419T195749Z
UID:4818-1651082400-1651089600@www.c-tecyouthservices.org
SUMMARY:Virtual Special Education & Transition Resource Fair
DESCRIPTION:Portland Public Schools | Virtual Special Education & Transition Resource Fair\n\nApril 26th & April 27th | 6pm-8pm\n\nJoin us for a special two-night event to learn more about post-high school employment and transition planning for students on the neuro-diverse spectrum\n\nhttps://signup.com/go/BWXzfQa
URL:https://www.c-tecyouthservices.org/event/virtual-special-education-transition-resource-fair-2/
LOCATION:Zoom
CATEGORIES:Community Resource
END:VEVENT
BEGIN:VEVENT
DTSTART;TZID=America/Vancouver:20220427T130000
DTEND;TZID=America/Vancouver:20220427T150000
DTSTAMP:20260419T125016
CREATED:20220419T193738Z
LAST-MODIFIED:20220419T193738Z
UID:4809-1651064400-1651071600@www.c-tecyouthservices.org
SUMMARY:NWoW Collaboration
DESCRIPTION:NWoW Collaboration: Learn how to understand diversity in the workplace\, respect people’s differences\, share leadership by gathering ideas and using skills of all team members\, and finding positive ways to deal with conflict.
URL:https://www.c-tecyouthservices.org/event/nwow-collaboration/
CATEGORIES:employment
ORGANIZER;CN="Kelly Beyer":MAILTO:kbeyer@clackesd.k12.or.us
END:VEVENT
BEGIN:VEVENT
DTSTART;TZID=America/Vancouver:20220427T100000
DTEND;TZID=America/Vancouver:20220427T120000
DTSTAMP:20260419T125016
CREATED:20220419T193541Z
LAST-MODIFIED:20220419T193541Z
UID:4808-1651053600-1651060800@www.c-tecyouthservices.org
SUMMARY:NWoW Self-Awareness
DESCRIPTION:NWoW Self-Awareness: Learn how to know your own personality\, strengths\, and areas of knowledge\, and can maintain self-discipline. You also know how to improve your professional manner by learning guidelines or rules of the work setting\, and look for work opportunities that would be a good match for personal strengths and skills.
URL:https://www.c-tecyouthservices.org/event/nwow-self-awareness/
CATEGORIES:employment
ORGANIZER;CN="Kelly Beyer":MAILTO:kbeyer@clackesd.k12.or.us
END:VEVENT
BEGIN:VEVENT
DTSTART;TZID=America/Vancouver:20220426T180000
DTEND;TZID=America/Vancouver:20220426T200000
DTSTAMP:20260419T125016
CREATED:20220419T194955Z
LAST-MODIFIED:20220419T195717Z
UID:4812-1650996000-1651003200@www.c-tecyouthservices.org
SUMMARY:Virtual Special Education & Transition Resource Fair
DESCRIPTION:Portland Public Schools | Virtual Special Education & Transition Resource Fair\n\nApril 26th & April 27th | 6pm-8pm\n\nJoin us for a special two-night event to learn more about post-high school employment and transition planning for students on the neuro-diverse spectrum\n\nhttps://signup.com/go/BWXzfQa
URL:https://www.c-tecyouthservices.org/event/virtual-special-education-transition-resource-fair/
LOCATION:Zoom
CATEGORIES:Community Resource
END:VEVENT
BEGIN:VEVENT
DTSTART;TZID=America/Vancouver:20220426T090000
DTEND;TZID=America/Vancouver:20220426T110000
DTSTAMP:20260419T125016
CREATED:20220419T193007Z
LAST-MODIFIED:20220419T193007Z
UID:4806-1650963600-1650970800@www.c-tecyouthservices.org
SUMMARY:NWoW Adaptability
DESCRIPTION:NWoW Adaptability: Learn how to notice changes and see opportunities for growth\, stay open to new experiences\, consider a variety of viewpoints\, and handle stress in a positive way.
URL:https://www.c-tecyouthservices.org/event/nwow-adaptability/
CATEGORIES:employment
ORGANIZER;CN="Kelly Beyer":MAILTO:kbeyer@clackesd.k12.or.us
END:VEVENT
BEGIN:VEVENT
DTSTART;TZID=America/Vancouver:20220425T150000
DTEND;TZID=America/Vancouver:20220425T190000
DTSTAMP:20260419T125016
CREATED:20220419T200242Z
LAST-MODIFIED:20220419T200411Z
UID:4821-1650898800-1650913200@www.c-tecyouthservices.org
SUMMARY:Clackamas County Expungement Clinic
DESCRIPTION:Clackamas County Expungement Clinic | 2nd & 4th Monday of the Month April 11th: 1:00pm – 5:00pm April 25th: 3:00pm – 7:00pm\n\n\nChildren\, Family & Community Connections 112 11th Street\, Oregon City 97045\n\n\nPre-eligibility screening is recommended at https://bit.ly/ClackExpunge\n\n\nWalk-up appointments available on a limited basis.
URL:https://www.c-tecyouthservices.org/event/clackamas-county-expungement-clinic/
LOCATION:Children\, Family\, Community Connections\, 112 11th St\, Oregon City\, OR\, 97045\, United States
CATEGORIES:Community Resource
END:VEVENT
BEGIN:VEVENT
DTSTART;TZID=America/Vancouver:20220425T143000
DTEND;TZID=America/Vancouver:20220425T163000
DTSTAMP:20260419T125016
CREATED:20220419T192809Z
LAST-MODIFIED:20220419T193106Z
UID:4805-1650897000-1650904200@www.c-tecyouthservices.org
SUMMARY:NWoW Analysis/Solution Mindset
DESCRIPTION:NWoW Analysis/Solution Mind Set: Learn how to consider different viewpoints\, look at the bigger picture of a work situation\, examine information\, and think about different ways to solve a problem.
URL:https://www.c-tecyouthservices.org/event/nwow-analysis-solution-mindset/
CATEGORIES:employment
ORGANIZER;CN="Kelly Beyer":MAILTO:kbeyer@clackesd.k12.or.us
END:VEVENT
BEGIN:VEVENT
DTSTART;TZID=America/Vancouver:20220425T090000
DTEND;TZID=America/Vancouver:20220425T110000
DTSTAMP:20260419T125016
CREATED:20220419T192600Z
LAST-MODIFIED:20220419T193045Z
UID:4802-1650877200-1650884400@www.c-tecyouthservices.org
SUMMARY:NWoW Communication
DESCRIPTION:NWoW Communication: Learn how to speak in a professional manner\, communicate using technology\, choose your words wisely and use non-verbal communication\, and be an attentive listener while asking questions or repeating back to make sure you understand correctly. \n 
URL:https://www.c-tecyouthservices.org/event/nwow-communication/
CATEGORIES:employment
ORGANIZER;CN="Kelly Beyer":MAILTO:kbeyer@clackesd.k12.or.us
END:VEVENT
BEGIN:VEVENT
DTSTART;TZID=America/Vancouver:20220421T183000
DTEND;TZID=America/Vancouver:20220421T200000
DTSTAMP:20260419T125016
CREATED:20220419T212600Z
LAST-MODIFIED:20220419T212600Z
UID:4833-1650565800-1650571200@www.c-tecyouthservices.org
SUMMARY:Paths to Adulthood Virtual Resource Fair
DESCRIPTION:Paths to ADULThood – Clackamas County Virtual Resource Fair\nThursday April 21\, 2022\, 6:30pm-8:00pm\nVirtual event for families\, youth 14-21\, educators\, mentors\nMeet community partners & learn about employment!\nRegister to attend: https://sites.google.com/clackesd.k12.or.us/april-clackamas-pathway/homewelcome?authuser=0
URL:https://www.c-tecyouthservices.org/event/paths-to-adulthood-virtual-resource-fair/
LOCATION:Zoom
CATEGORIES:Community Resource,employment
END:VEVENT
BEGIN:VEVENT
DTSTART;TZID=America/Vancouver:20220421T173000
DTEND;TZID=America/Vancouver:20220421T183000
DTSTAMP:20260419T125016
CREATED:20220419T195221Z
LAST-MODIFIED:20220419T195831Z
UID:4816-1650562200-1650565800@www.c-tecyouthservices.org
SUMMARY:Young Adult Smart Recovery Support Group
DESCRIPTION:Young Adult Smart Recovery Support Group\nJoin the Vibrant Future Coalition for a weekly recovery support group\, Thursdays\, starting April 21\, 5:30-6:30pm\nRegister in advance here: https://tinyurl.com/vfcsmartrecoverygroup
URL:https://www.c-tecyouthservices.org/event/young-adult-smart-recovery-support-group/
CATEGORIES:Community Resource
END:VEVENT
BEGIN:VEVENT
DTSTART;TZID=America/Vancouver:20220420T160000
DTEND;TZID=America/Vancouver:20220420T180000
DTSTAMP:20260419T125016
CREATED:20220419T205951Z
LAST-MODIFIED:20220419T210120Z
UID:4829-1650470400-1650477600@www.c-tecyouthservices.org
SUMMARY:HINT Education Forum
DESCRIPTION:HINT Education Forum\nThe Hispanic Interagency Networking Team (HINT) Steering Committee invites you to attend our April Forum on Education with guest speakers Dawn Hendricks and Fernando Sobrevilla from Clackamas Community College.\n\n\n\n\n\n\nWednesday April 20\, 2022\n4pm-6pm\n\n\nJoin Zoom Meeting\nhttps://clackamascounty.zoom.us/j/83094463322?pwd=NURLZVM4ait0VlIvM3liZjVqUHE1dz09
URL:https://www.c-tecyouthservices.org/event/hint-education-forum/
LOCATION:Zoom
CATEGORIES:Community Resource,education
END:VEVENT
BEGIN:VEVENT
DTSTART;TZID=America/Vancouver:20220419T173000
DTEND;TZID=America/Vancouver:20220419T183000
DTSTAMP:20260419T125016
CREATED:20220419T201117Z
LAST-MODIFIED:20220419T201117Z
UID:4827-1650389400-1650393000@www.c-tecyouthservices.org
SUMMARY:Suicide Prevention Coalition Clackamas County
DESCRIPTION:Suicide Prevention Coalition of Clackamas County\n(virtual\, via ZOOM)\nTuesday\, April 19\, 2020 – 4:30 to 5:30 pm\nJoin Zoom Meeting\nhttps://clackamascounty.zoom.us/j/84854577613…\nMeeting ID: 848 5457 7613; Passcode: 352620\nCome learn about the new “988” suicide prevention lifeline and how it will work in Oregon!\nThe National Suicide Hotline Designation Act\, federal legislation designating 988 as the three-digit dialing code for the Lifeline\, was signed into law in October 2020. This triumph was the outcome of many years of activism by the mental health community for the creation of an easy-to-remember telephone number that would increase accessibility of the Lifeline. The Federal Communications Commission has required telephone providers to make calling to the Lifeline via 988 accessible by July 16\, 2022.\nJoin us at the Suicide Prevention Coalition for an educational session with leadership from the Oregon Health Authority.\nPlease welcome Rusha Grinstead\, Behavioral Health Planner\, AMHPAC/Block Grant and Chelsea Holcomb\, Director of Child and Family Behavioral Health\nAdditional information included on how to get trained to help: https://gettrainedtohelp.com/en/
URL:https://www.c-tecyouthservices.org/event/suicide-prevention-coalition-clackamas-county/
LOCATION:Zoom
CATEGORIES:Community Resource
END:VEVENT
END:VCALENDAR