BEGIN:VCALENDAR
VERSION:2.0
PRODID:-//C-TEC Clackamas Youth Services - ECPv6.15.20//NONSGML v1.0//EN
CALSCALE:GREGORIAN
METHOD:PUBLISH
X-WR-CALNAME:C-TEC Clackamas Youth Services
X-ORIGINAL-URL:https://www.c-tecyouthservices.org
X-WR-CALDESC:Events for C-TEC Clackamas Youth Services
REFRESH-INTERVAL;VALUE=DURATION:PT1H
X-Robots-Tag:noindex
X-PUBLISHED-TTL:PT1H
BEGIN:VTIMEZONE
TZID:America/Vancouver
BEGIN:DAYLIGHT
TZOFFSETFROM:-0800
TZOFFSETTO:-0700
TZNAME:PDT
DTSTART:20210314T100000
END:DAYLIGHT
BEGIN:STANDARD
TZOFFSETFROM:-0700
TZOFFSETTO:-0800
TZNAME:PST
DTSTART:20211107T090000
END:STANDARD
BEGIN:DAYLIGHT
TZOFFSETFROM:-0800
TZOFFSETTO:-0700
TZNAME:PDT
DTSTART:20220313T100000
END:DAYLIGHT
BEGIN:STANDARD
TZOFFSETFROM:-0700
TZOFFSETTO:-0800
TZNAME:PST
DTSTART:20221106T090000
END:STANDARD
BEGIN:DAYLIGHT
TZOFFSETFROM:-0800
TZOFFSETTO:-0700
TZNAME:PDT
DTSTART:20230312T100000
END:DAYLIGHT
BEGIN:STANDARD
TZOFFSETFROM:-0700
TZOFFSETTO:-0800
TZNAME:PST
DTSTART:20231105T090000
END:STANDARD
END:VTIMEZONE
BEGIN:VEVENT
DTSTART;TZID=America/Vancouver:20220425T143000
DTEND;TZID=America/Vancouver:20220425T163000
DTSTAMP:20260419T130818
CREATED:20220419T192809Z
LAST-MODIFIED:20220419T193106Z
UID:4805-1650897000-1650904200@www.c-tecyouthservices.org
SUMMARY:NWoW Analysis/Solution Mindset
DESCRIPTION:NWoW Analysis/Solution Mind Set: Learn how to consider different viewpoints\, look at the bigger picture of a work situation\, examine information\, and think about different ways to solve a problem.
URL:https://www.c-tecyouthservices.org/event/nwow-analysis-solution-mindset/
CATEGORIES:employment
ORGANIZER;CN="Kelly Beyer":MAILTO:kbeyer@clackesd.k12.or.us
END:VEVENT
BEGIN:VEVENT
DTSTART;TZID=America/Vancouver:20220425T090000
DTEND;TZID=America/Vancouver:20220425T110000
DTSTAMP:20260419T130818
CREATED:20220419T192600Z
LAST-MODIFIED:20220419T193045Z
UID:4802-1650877200-1650884400@www.c-tecyouthservices.org
SUMMARY:NWoW Communication
DESCRIPTION:NWoW Communication: Learn how to speak in a professional manner\, communicate using technology\, choose your words wisely and use non-verbal communication\, and be an attentive listener while asking questions or repeating back to make sure you understand correctly. \n 
URL:https://www.c-tecyouthservices.org/event/nwow-communication/
CATEGORIES:employment
ORGANIZER;CN="Kelly Beyer":MAILTO:kbeyer@clackesd.k12.or.us
END:VEVENT
BEGIN:VEVENT
DTSTART;TZID=America/Vancouver:20220421T183000
DTEND;TZID=America/Vancouver:20220421T200000
DTSTAMP:20260419T130818
CREATED:20220419T212600Z
LAST-MODIFIED:20220419T212600Z
UID:4833-1650565800-1650571200@www.c-tecyouthservices.org
SUMMARY:Paths to Adulthood Virtual Resource Fair
DESCRIPTION:Paths to ADULThood – Clackamas County Virtual Resource Fair\nThursday April 21\, 2022\, 6:30pm-8:00pm\nVirtual event for families\, youth 14-21\, educators\, mentors\nMeet community partners & learn about employment!\nRegister to attend: https://sites.google.com/clackesd.k12.or.us/april-clackamas-pathway/homewelcome?authuser=0
URL:https://www.c-tecyouthservices.org/event/paths-to-adulthood-virtual-resource-fair/
LOCATION:Zoom
CATEGORIES:Community Resource,employment
END:VEVENT
BEGIN:VEVENT
DTSTART;TZID=America/Vancouver:20220421T173000
DTEND;TZID=America/Vancouver:20220421T183000
DTSTAMP:20260419T130818
CREATED:20220419T195221Z
LAST-MODIFIED:20220419T195831Z
UID:4816-1650562200-1650565800@www.c-tecyouthservices.org
SUMMARY:Young Adult Smart Recovery Support Group
DESCRIPTION:Young Adult Smart Recovery Support Group\nJoin the Vibrant Future Coalition for a weekly recovery support group\, Thursdays\, starting April 21\, 5:30-6:30pm\nRegister in advance here: https://tinyurl.com/vfcsmartrecoverygroup
URL:https://www.c-tecyouthservices.org/event/young-adult-smart-recovery-support-group/
CATEGORIES:Community Resource
END:VEVENT
BEGIN:VEVENT
DTSTART;TZID=America/Vancouver:20220420T160000
DTEND;TZID=America/Vancouver:20220420T180000
DTSTAMP:20260419T130818
CREATED:20220419T205951Z
LAST-MODIFIED:20220419T210120Z
UID:4829-1650470400-1650477600@www.c-tecyouthservices.org
SUMMARY:HINT Education Forum
DESCRIPTION:HINT Education Forum\nThe Hispanic Interagency Networking Team (HINT) Steering Committee invites you to attend our April Forum on Education with guest speakers Dawn Hendricks and Fernando Sobrevilla from Clackamas Community College.\n\n\n\n\n\n\nWednesday April 20\, 2022\n4pm-6pm\n\n\nJoin Zoom Meeting\nhttps://clackamascounty.zoom.us/j/83094463322?pwd=NURLZVM4ait0VlIvM3liZjVqUHE1dz09
URL:https://www.c-tecyouthservices.org/event/hint-education-forum/
LOCATION:Zoom
CATEGORIES:Community Resource,education
END:VEVENT
BEGIN:VEVENT
DTSTART;TZID=America/Vancouver:20220419T173000
DTEND;TZID=America/Vancouver:20220419T183000
DTSTAMP:20260419T130818
CREATED:20220419T201117Z
LAST-MODIFIED:20220419T201117Z
UID:4827-1650389400-1650393000@www.c-tecyouthservices.org
SUMMARY:Suicide Prevention Coalition Clackamas County
DESCRIPTION:Suicide Prevention Coalition of Clackamas County\n(virtual\, via ZOOM)\nTuesday\, April 19\, 2020 – 4:30 to 5:30 pm\nJoin Zoom Meeting\nhttps://clackamascounty.zoom.us/j/84854577613…\nMeeting ID: 848 5457 7613; Passcode: 352620\nCome learn about the new “988” suicide prevention lifeline and how it will work in Oregon!\nThe National Suicide Hotline Designation Act\, federal legislation designating 988 as the three-digit dialing code for the Lifeline\, was signed into law in October 2020. This triumph was the outcome of many years of activism by the mental health community for the creation of an easy-to-remember telephone number that would increase accessibility of the Lifeline. The Federal Communications Commission has required telephone providers to make calling to the Lifeline via 988 accessible by July 16\, 2022.\nJoin us at the Suicide Prevention Coalition for an educational session with leadership from the Oregon Health Authority.\nPlease welcome Rusha Grinstead\, Behavioral Health Planner\, AMHPAC/Block Grant and Chelsea Holcomb\, Director of Child and Family Behavioral Health\nAdditional information included on how to get trained to help: https://gettrainedtohelp.com/en/
URL:https://www.c-tecyouthservices.org/event/suicide-prevention-coalition-clackamas-county/
LOCATION:Zoom
CATEGORIES:Community Resource
END:VEVENT
END:VCALENDAR