BEGIN:VCALENDAR
VERSION:2.0
PRODID:-//C-TEC Clackamas Youth Services - ECPv6.15.20//NONSGML v1.0//EN
CALSCALE:GREGORIAN
METHOD:PUBLISH
X-WR-CALNAME:C-TEC Clackamas Youth Services
X-ORIGINAL-URL:https://www.c-tecyouthservices.org
X-WR-CALDESC:Events for C-TEC Clackamas Youth Services
REFRESH-INTERVAL;VALUE=DURATION:PT1H
X-Robots-Tag:noindex
X-PUBLISHED-TTL:PT1H
BEGIN:VTIMEZONE
TZID:America/Vancouver
BEGIN:DAYLIGHT
TZOFFSETFROM:-0800
TZOFFSETTO:-0700
TZNAME:PDT
DTSTART:20210314T100000
END:DAYLIGHT
BEGIN:STANDARD
TZOFFSETFROM:-0700
TZOFFSETTO:-0800
TZNAME:PST
DTSTART:20211107T090000
END:STANDARD
BEGIN:DAYLIGHT
TZOFFSETFROM:-0800
TZOFFSETTO:-0700
TZNAME:PDT
DTSTART:20220313T100000
END:DAYLIGHT
BEGIN:STANDARD
TZOFFSETFROM:-0700
TZOFFSETTO:-0800
TZNAME:PST
DTSTART:20221106T090000
END:STANDARD
BEGIN:DAYLIGHT
TZOFFSETFROM:-0800
TZOFFSETTO:-0700
TZNAME:PDT
DTSTART:20230312T100000
END:DAYLIGHT
BEGIN:STANDARD
TZOFFSETFROM:-0700
TZOFFSETTO:-0800
TZNAME:PST
DTSTART:20231105T090000
END:STANDARD
END:VTIMEZONE
BEGIN:VEVENT
DTSTART;TZID=America/Vancouver:20220526T123000
DTEND;TZID=America/Vancouver:20220526T143000
DTSTAMP:20260419T130545
CREATED:20220502T225524Z
LAST-MODIFIED:20220502T225524Z
UID:4848-1653568200-1653575400@www.c-tecyouthservices.org
SUMMARY:NWoW Resume Building:
DESCRIPTION:NWoW Resume Building: Make/edit your resume so you can stand out to employers.
URL:https://www.c-tecyouthservices.org/event/nwow-resume-building-2/
LOCATION:Zoom
CATEGORIES:employment
ORGANIZER;CN="Kelly Beyer":MAILTO:kbeyer@clackesd.k12.or.us
END:VEVENT
BEGIN:VEVENT
DTSTART;TZID=America/Vancouver:20220526T150000
DTEND;TZID=America/Vancouver:20220526T170000
DTSTAMP:20260419T130545
CREATED:20220502T225621Z
LAST-MODIFIED:20220502T225621Z
UID:4849-1653577200-1653584400@www.c-tecyouthservices.org
SUMMARY:NWoW Mock Interview/Interview Readiness
DESCRIPTION:NWoW Mock Interview/Interview Readiness: Go over interview questions and help prepare you to be able to give an outstanding and\nmemorable interview to a potential employer. Also talk about the do’s and don’ts of an interview.
URL:https://www.c-tecyouthservices.org/event/nwow-mock-interview-interview-readiness-2/
LOCATION:Zoom
CATEGORIES:employment
ORGANIZER;CN="Kelly Beyer":MAILTO:kbeyer@clackesd.k12.or.us
END:VEVENT
BEGIN:VEVENT
DTSTART;TZID=America/Vancouver:20220601T130000
DTEND;TZID=America/Vancouver:20220601T150000
DTSTAMP:20260419T130545
CREATED:20220513T205305Z
LAST-MODIFIED:20220513T205505Z
UID:4863-1654088400-1654095600@www.c-tecyouthservices.org
SUMMARY:Clackamas Community College Manufacturing & Welding Job Fair
DESCRIPTION:Clackamas Community College Manufacturing & Welding Job Fair\n\n Clackamas Community College\, Holden Industrial Technology Center\, 9600 Molalla Ave\, Oregon City\, OR 97045 June 1\, 2022 1pm-3pm Register: https://www.eventbrite.com/e/manufacturing-welding-job-fair-registration-332220399157
URL:https://www.c-tecyouthservices.org/event/clackamas-community-college-manufacturing-welding-job-fair/
LOCATION:Clackamas Community College – Holden Industrial Technology Center\, 9600 Molalla Ave\, Oregon City\, OR\, 97045\, United States
CATEGORIES:Community Resource,employment
ORGANIZER;CN="Clackamas Community College- Career Center":MAILTO:careercenter@clackamas.edu
END:VEVENT
BEGIN:VEVENT
DTSTART;TZID=America/Vancouver:20220617T173000
DTEND;TZID=America/Vancouver:20220617T193000
DTSTAMP:20260419T130545
CREATED:20220608T011156Z
LAST-MODIFIED:20220608T011219Z
UID:4894-1655487000-1655494200@www.c-tecyouthservices.org
SUMMARY:CCC Summer Connections Community Celebration
DESCRIPTION:Kick off the summer celebrating Juneteenth and Pride Month at the Summer Connections celebration! Clackamas Community College (CCC)\, Clackamas County and the Clackamas County Equity Coalition are partnering to showcase the local cultural and community events being planned for the summer. \nTop reasons to attend: \n\nFamily friendly!\nFree!\nFood!\nEntertainment!\nAnd more…
URL:https://www.c-tecyouthservices.org/event/clackamas-community-college-summer-connections-community-celebration/
LOCATION:Clackamas Community College- Gregory Forum\, 19600 Molalla Ave.\, Oregon City\, OR\, 97045\, United States
CATEGORIES:Community Resource
END:VEVENT
BEGIN:VEVENT
DTSTART;TZID=America/Vancouver:20220619T110000
DTEND;TZID=America/Vancouver:20220619T160000
DTSTAMP:20260419T130545
CREATED:20220608T013614Z
LAST-MODIFIED:20220608T013615Z
UID:4899-1655636400-1655654400@www.c-tecyouthservices.org
SUMMARY:Portland Pride Parade
DESCRIPTION:The parade steps off at NW Couch St and NW 8th Ave\, traveling east down NW Couch St. Once the parade reaches Naito Pkwy it turns south and proceeds down to the Portland Pride Waterfront Festival.
URL:https://www.c-tecyouthservices.org/event/portland-pride-parade/
LOCATION:Portland Waterfront\, 70 NW Couch St\, Portland\, OR\, 97209\, United States
CATEGORIES:Community Resource
END:VEVENT
BEGIN:VEVENT
DTSTART;TZID=America/Vancouver:20220619T130000
DTEND;TZID=America/Vancouver:20220619T170000
DTSTAMP:20260419T130545
CREATED:20220608T012336Z
LAST-MODIFIED:20220608T012336Z
UID:4896-1655643600-1655658000@www.c-tecyouthservices.org
SUMMARY:City of West Linn Juneteenth Celebration
DESCRIPTION:Celebrate Juneteenth on Sunday June 19 at Willamette Park! We’re excited to feature educational booths\, food and beverage trucks\, live jazz\, world music\, and a DJ\, a bounce house for the kids\, beer cart for the adults\, and more! See our full list of educators\, artists\, and vendors below. \nThis event is for all ages with free admission.  It will take place at the Willamette Park Grandstand near the boat ramp. For more information\, please contact Doug Erickson at derickson@westlinnoregon.gov \n 
URL:https://www.c-tecyouthservices.org/event/city-of-west-linn-juneteenth-celebration/
LOCATION:Willamette Park\, 1100 12th St\, West Linn\, OR\, 97068\, United States
CATEGORIES:Community Resource
END:VEVENT
BEGIN:VEVENT
DTSTART;TZID=America/Vancouver:20220620T100000
DTEND;TZID=America/Vancouver:20220620T120000
DTSTAMP:20260419T130545
CREATED:20220608T003958Z
LAST-MODIFIED:20220608T003958Z
UID:4884-1655719200-1655726400@www.c-tecyouthservices.org
SUMMARY:NWoW Collaboration
DESCRIPTION:NWoW Collaboration: Learn how to understand diversity in the workplace\, respect people’s differences\, share leadership by gathering ideas and using skills of all team members\, and finding positive ways to deal with conflict.
URL:https://www.c-tecyouthservices.org/event/nwow-collaboration-3/
LOCATION:Zoom
CATEGORIES:employment
ORGANIZER;CN="Kelly Beyer":MAILTO:kbeyer@clackesd.k12.or.us
END:VEVENT
BEGIN:VEVENT
DTSTART;TZID=America/Vancouver:20220620T130000
DTEND;TZID=America/Vancouver:20220620T150000
DTSTAMP:20260419T130545
CREATED:20220608T004114Z
LAST-MODIFIED:20220608T004114Z
UID:4885-1655730000-1655737200@www.c-tecyouthservices.org
SUMMARY:NWoW Analysis/Solution Mindset
DESCRIPTION:NWoW Analysis/Solution Mind Set: Learn how to consider different viewpoints\, look at the bigger picture of a work situation\, examine information\, and think about different ways to solve a problem.
URL:https://www.c-tecyouthservices.org/event/nwow-analysis-solution-mindset-2/
LOCATION:Zoom
CATEGORIES:employment
ORGANIZER;CN="Kelly Beyer":MAILTO:kbeyer@clackesd.k12.or.us
END:VEVENT
BEGIN:VEVENT
DTSTART;TZID=America/Vancouver:20220621T100000
DTEND;TZID=America/Vancouver:20220621T120000
DTSTAMP:20260419T130545
CREATED:20220608T004235Z
LAST-MODIFIED:20220608T004235Z
UID:4886-1655805600-1655812800@www.c-tecyouthservices.org
SUMMARY:NWoW Communication
DESCRIPTION:NWoW Communication: Learn how to speak in a professional manner\, communicate using technology\, choose your words wisely and use non-verbal communication\, and be an attentive listener while asking questions or repeating back to make sure you understand correctly.
URL:https://www.c-tecyouthservices.org/event/nwow-communication-3/
LOCATION:Zoom
CATEGORIES:employment
ORGANIZER;CN="Kelly Beyer":MAILTO:kbeyer@clackesd.k12.or.us
END:VEVENT
BEGIN:VEVENT
DTSTART;TZID=America/Vancouver:20220622T100000
DTEND;TZID=America/Vancouver:20220622T120000
DTSTAMP:20260419T130545
CREATED:20220608T004355Z
LAST-MODIFIED:20220608T004355Z
UID:4887-1655892000-1655899200@www.c-tecyouthservices.org
SUMMARY:NWoW Adaptability
DESCRIPTION:NWoW Adaptability: Learn how to notice changes and see opportunities for growth\, stay open to new experiences\, consider a variety of viewpoints\, and handle stress in a positive way.
URL:https://www.c-tecyouthservices.org/event/nwow-adaptability-3/
LOCATION:Zoom
CATEGORIES:employment
ORGANIZER;CN="Kelly Beyer":MAILTO:kbeyer@clackesd.k12.or.us
END:VEVENT
BEGIN:VEVENT
DTSTART;TZID=America/Vancouver:20220622T130000
DTEND;TZID=America/Vancouver:20220622T150000
DTSTAMP:20260419T130545
CREATED:20220608T004445Z
LAST-MODIFIED:20220608T004445Z
UID:4888-1655902800-1655910000@www.c-tecyouthservices.org
SUMMARY:NWoW Self-Awareness
DESCRIPTION:NWoW Self-Awareness: Learn how to know your own personality\, strengths\, and areas of knowledge\, and can maintain self-discipline. You also know how to improve your professional manner by learning guidelines or rules of the work setting\, and look for work opportunities that would be a good match for personal strengths and skills.
URL:https://www.c-tecyouthservices.org/event/nwow-self-awareness-3/
LOCATION:Zoom
CATEGORIES:employment
ORGANIZER;CN="Kelly Beyer":MAILTO:kbeyer@clackesd.k12.or.us
END:VEVENT
BEGIN:VEVENT
DTSTART;TZID=America/Vancouver:20220623T100000
DTEND;TZID=America/Vancouver:20220623T120000
DTSTAMP:20260419T130545
CREATED:20220608T004542Z
LAST-MODIFIED:20220608T004542Z
UID:4889-1655978400-1655985600@www.c-tecyouthservices.org
SUMMARY:NWoW Mock Interview/Interview Readiness
DESCRIPTION:NWoW Mock Interview/Interview Readiness: Go over interview questions and help prepare you to be able to give an outstanding and memorable interview to a potential employer. Also talk about the do’s and don’ts of an interview.
URL:https://www.c-tecyouthservices.org/event/nwow-mock-interview-interview-readiness-3/
LOCATION:Zoom
CATEGORIES:employment
ORGANIZER;CN="Kelly Beyer":MAILTO:kbeyer@clackesd.k12.or.us
END:VEVENT
BEGIN:VEVENT
DTSTART;TZID=America/Vancouver:20220623T130000
DTEND;TZID=America/Vancouver:20220623T150000
DTSTAMP:20260419T130545
CREATED:20220608T004642Z
LAST-MODIFIED:20220608T004642Z
UID:4890-1655989200-1655996400@www.c-tecyouthservices.org
SUMMARY:NWoW Resume Building
DESCRIPTION:NWoW Resume Building: Make/edit your resume so you can stand out to employers.
URL:https://www.c-tecyouthservices.org/event/nwow-resume-building-3/
LOCATION:Zoom
CATEGORIES:employment
ORGANIZER;CN="Kelly Beyer":MAILTO:kbeyer@clackesd.k12.or.us
END:VEVENT
BEGIN:VEVENT
DTSTART;TZID=America/Vancouver:20220704T070000
DTEND;TZID=America/Vancouver:20220704T210000
DTSTAMP:20260419T130545
CREATED:20220608T194253Z
LAST-MODIFIED:20220608T194253Z
UID:4905-1656918000-1656968400@www.c-tecyouthservices.org
SUMMARY:Canby Independence Day Celebration
DESCRIPTION:The City of Canby hosts its annual Canby Independence Day Celebration in downtown. The event features a street fair with food and beverage vendors\, arts and crafts exhibitors\, and local nonprofits. Live music fills Wait Park as children take park in free children’s activities. A car show and parade offer fun for all! \n 
URL:https://www.c-tecyouthservices.org/event/canby-independence-day-celebration/
LOCATION:Wait Park\, 350 N Grant Street\, Canby\, OR\, 97013\, United States
CATEGORIES:Community Resource
END:VEVENT
BEGIN:VEVENT
DTSTART;TZID=America/Vancouver:20220723T100000
DTEND;TZID=America/Vancouver:20220723T170000
DTSTAMP:20260419T130545
CREATED:20220608T014348Z
LAST-MODIFIED:20220608T014348Z
UID:4902-1658570400-1658595600@www.c-tecyouthservices.org
SUMMARY:Clackamas County Together We Can Festival
DESCRIPTION:Clackamas County’s employee-based Equity\, Diversity and Inclusion Council invites you to join them for a day of networking and fun at a family event celebrating our rich regional culture and heritage. \nJuly 23 brings the Clackamas County: Together We Can festival to the county’s Red Soil Campus in Oregon City. Sponsored by the Clackamas County Equity\, Diversity\, and Inclusion Committee\, the festival is a place for community groups\, cultural organizations\, and all peoples to come together in mutual respect\, collaboration\, and joy. There will be games\, educational booths\, and an exhibition of talent. We hope you will join us and learn more about your neighbors!
URL:https://www.c-tecyouthservices.org/event/clackamas-county-together-we-can-festival/
LOCATION:Developmental Services Building\, 150 Beavercreek Rd\, Oregon City\, OR\, 97045\, United States
CATEGORIES:Community Resource
END:VEVENT
BEGIN:VEVENT
DTSTART;VALUE=DATE:20220816
DTEND;VALUE=DATE:20220817
DTSTAMP:20260419T130545
CREATED:20220608T195050Z
LAST-MODIFIED:20220608T195546Z
UID:4908-1660608000-1660694399@www.c-tecyouthservices.org
SUMMARY:Clackamas County Fair & Rodeo
DESCRIPTION:Tuesday August 16:\nFred Meyer Family Day\n10am – 10pm\nFIRST DAY OF THE CLACKAMAS COUNTY FAIR & RODEO\nCanby Kiwanis Kiddie Parade begins at 10am at Knight School ends at the Fairgrounds\nKids 12 and under FREE with participation in the parade\nCanby Rodeo begins at 7:30pm
URL:https://www.c-tecyouthservices.org/event/clackamas-county-fair-rodeo/
LOCATION:Clackamas County Fairgrounds\, 694 NE Fourth Ave\, Canby\, OR\, 97013\, United States
CATEGORIES:Community Resource
END:VEVENT
BEGIN:VEVENT
DTSTART;VALUE=DATE:20220817
DTEND;VALUE=DATE:20220818
DTSTAMP:20260419T130545
CREATED:20220608T195203Z
LAST-MODIFIED:20220608T195618Z
UID:4911-1660694400-1660780799@www.c-tecyouthservices.org
SUMMARY:Clackamas County Fair & Rodeo
DESCRIPTION:Wednesday August 17:\nHoliday Inn Senior Citizen Day 10am – 10pm\nSeniors 65-74 $2.00 admission\nKids 12 and under $2.00 admission when accompanied by grandparent 65 and older\nPeople with disabilities that need assistance pay $2.00\nTheir assistant gets in FREE\nCanby Rodeo begins at 7:30pm
URL:https://www.c-tecyouthservices.org/event/clackamas-county-fair-rodeo-2/
LOCATION:Clackamas County Fairgrounds\, 694 NE Fourth Ave\, Canby\, OR\, 97013\, United States
CATEGORIES:Community Resource
END:VEVENT
BEGIN:VEVENT
DTSTART;VALUE=DATE:20220818
DTEND;VALUE=DATE:20220819
DTSTAMP:20260419T130545
CREATED:20220608T195317Z
LAST-MODIFIED:20220608T195639Z
UID:4912-1660780800-1660867199@www.c-tecyouthservices.org
SUMMARY:Clackamas County Fair & Rodeo
DESCRIPTION:Thursday August 18:\nFirst Responders Day\n10am – 10pm\nPolice\, Fire and Paramedics FREE all day with Identification.\nEveryone FREE until 3pm to the Clackamas County Fair (no re-entry stamps for free entry times).\nCanby Rodeo begins at 7:30pm
URL:https://www.c-tecyouthservices.org/event/clackamas-county-fair-rodeo-3/
LOCATION:Clackamas County Fairgrounds\, 694 NE Fourth Ave\, Canby\, OR\, 97013\, United States
CATEGORIES:Community Resource
END:VEVENT
BEGIN:VEVENT
DTSTART;VALUE=DATE:20220819
DTEND;VALUE=DATE:20220820
DTSTAMP:20260419T130545
CREATED:20220608T195407Z
LAST-MODIFIED:20220608T195657Z
UID:4913-1660867200-1660953599@www.c-tecyouthservices.org
SUMMARY:Clackamas County Fair & Rodeo
DESCRIPTION:Friday August 19:\nMilitary Appreciation Day\n10am – 11pm\nFree Fair admission for all Veterans and Armed Service members in uniform or with service identification\nCanby Rodeo begins at 7:30pm
URL:https://www.c-tecyouthservices.org/event/clackamas-county-fair-rodeo-4/
LOCATION:Clackamas County Fairgrounds\, 694 NE Fourth Ave\, Canby\, OR\, 97013\, United States
CATEGORIES:Community Resource
END:VEVENT
BEGIN:VEVENT
DTSTART;VALUE=DATE:20220820
DTEND;VALUE=DATE:20220821
DTSTAMP:20260419T130545
CREATED:20220608T195456Z
LAST-MODIFIED:20220608T195714Z
UID:4914-1660953600-1661039999@www.c-tecyouthservices.org
SUMMARY:Clackamas County Fair & Rodeo
DESCRIPTION:Saturday August 20:\nAgriculture Day\n10am – 11pm\n10am Junior Livestock Auction Sale order: Goats\, Beef\, Rabbits\, Swine\, Chickens\, Lambs and Turkeys\n2022 Miss Rodeo Oregon Coronation & VIP Press Party\nLast Canby Rodeo 7:30pm.
URL:https://www.c-tecyouthservices.org/event/clackamas-county-fair-rodeo-5/
LOCATION:Clackamas County Fairgrounds\, 694 NE Fourth Ave\, Canby\, OR\, 97013\, United States
CATEGORIES:Community Resource
END:VEVENT
BEGIN:VEVENT
DTSTART;TZID=America/Vancouver:20220822T110000
DTEND;TZID=America/Vancouver:20220822T130000
DTSTAMP:20260419T130545
CREATED:20220816T001325Z
LAST-MODIFIED:20220816T001325Z
UID:4935-1661166000-1661173200@www.c-tecyouthservices.org
SUMMARY:NWoW Collaboration
DESCRIPTION:NWoW Collaboration: Learn how to understand diversity in the workplace\, respect people’s differences\, share leadership by gathering ideas\nand using skills of all team members\, and finding positive ways to deal with conflict.
URL:https://www.c-tecyouthservices.org/event/nwow-collaboration-4/
LOCATION:Zoom
CATEGORIES:employment
ORGANIZER;CN="Kelly Beyer":MAILTO:kbeyer@clackesd.k12.or.us
END:VEVENT
BEGIN:VEVENT
DTSTART;TZID=America/Vancouver:20220822T140000
DTEND;TZID=America/Vancouver:20220822T160000
DTSTAMP:20260419T130545
CREATED:20220816T001441Z
LAST-MODIFIED:20220816T001441Z
UID:4936-1661176800-1661184000@www.c-tecyouthservices.org
SUMMARY:NWoW Adaptability
DESCRIPTION:NWoW Adaptability: Learn how to notice changes and see opportunities for growth\, stay open to new experiences\, consider a variety of\nviewpoints\, and handle stress in a positive way.
URL:https://www.c-tecyouthservices.org/event/nwow-adaptability-4/
LOCATION:Zoom
CATEGORIES:employment
ORGANIZER;CN="Kelly Beyer":MAILTO:kbeyer@clackesd.k12.or.us
END:VEVENT
BEGIN:VEVENT
DTSTART;TZID=America/Vancouver:20220823T100000
DTEND;TZID=America/Vancouver:20220823T120000
DTSTAMP:20260419T130545
CREATED:20220816T001636Z
LAST-MODIFIED:20220816T001636Z
UID:4937-1661248800-1661256000@www.c-tecyouthservices.org
SUMMARY:NWoW Communication
DESCRIPTION:NWoW Communication: Learn how to speak in a professional manner\, communicate using technology\, choose your words wisely and use non-\nverbal communication\, and be an attentive listener while asking questions or repeating back to make sure you understand correctly.
URL:https://www.c-tecyouthservices.org/event/nwow-communication-4/
LOCATION:Zoom
CATEGORIES:employment
ORGANIZER;CN="Kelly Beyer":MAILTO:kbeyer@clackesd.k12.or.us
END:VEVENT
BEGIN:VEVENT
DTSTART;TZID=America/Vancouver:20220823T130000
DTEND;TZID=America/Vancouver:20220823T150000
DTSTAMP:20260419T130545
CREATED:20220816T001755Z
LAST-MODIFIED:20220816T001755Z
UID:4938-1661259600-1661266800@www.c-tecyouthservices.org
SUMMARY:NWoW Analysis/Solution Mindset
DESCRIPTION:NWoW Analysis/Solution Mind Set: Learn how to consider different viewpoints\, look at the bigger picture of a work situation\, examine\ninformation\, and think about different ways to solve a problem.
URL:https://www.c-tecyouthservices.org/event/nwow-analysis-solution-mindset-3/
LOCATION:Zoom
CATEGORIES:employment
ORGANIZER;CN="Kelly Beyer":MAILTO:kbeyer@clackesd.k12.or.us
END:VEVENT
BEGIN:VEVENT
DTSTART;TZID=America/Vancouver:20220824T110000
DTEND;TZID=America/Vancouver:20220824T130000
DTSTAMP:20260419T130545
CREATED:20220816T001906Z
LAST-MODIFIED:20220816T001906Z
UID:4939-1661338800-1661346000@www.c-tecyouthservices.org
SUMMARY:NWoW Self-Awareness
DESCRIPTION:NWoW Self-Awareness: Learn how to know your own personality\, strengths\, and areas of knowledge\, and can maintain self-discipline. You\nalso know how to improve your professional manner by learning guidelines or rules of the work setting\, and look for work opportunities that\nwould be a good match for personal strengths and skills.
URL:https://www.c-tecyouthservices.org/event/nwow-self-awareness-4/
LOCATION:Zoom
CATEGORIES:employment
ORGANIZER;CN="Kelly Beyer":MAILTO:kbeyer@clackesd.k12.or.us
END:VEVENT
BEGIN:VEVENT
DTSTART;TZID=America/Vancouver:20220824T130000
DTEND;TZID=America/Vancouver:20220824T150000
DTSTAMP:20260419T130546
CREATED:20220816T002627Z
LAST-MODIFIED:20220816T002953Z
UID:4942-1661346000-1661353200@www.c-tecyouthservices.org
SUMMARY:Virtual Health Career Fair
DESCRIPTION:Available apprenticeship opportunities: \n\nMEDICAL ASSISTANT\nPHARMACY TECH\nQUALIFIED MENTAL HEALTH ASSOCIATE\nCERTIFIED ALCOHOL & DRUG COUNSELOR\n\nEarn while you learn! \nRegistered Apprenticeship is a work-\nbased learning model that combines \npaid on-the-job training with related\nclasswork. Apprentices are hired by\nthe employer or transitions into their\nnew role\, as they complete coursework\nto become certified in the field. \nRegister here: \nhttps://us02web.zoom.us/meeting/register/tZYuceqsrz0qGdbfOEYqp3UBV2xBm_rx89qW \nFor more info\, contact Joy Jamerson (817) 201-5765
URL:https://www.c-tecyouthservices.org/event/virtual-health-career-fair/
LOCATION:Virtual
CATEGORIES:Community Resource,employment
END:VEVENT
BEGIN:VEVENT
DTSTART;TZID=America/Vancouver:20220825T130000
DTEND;TZID=America/Vancouver:20220825T140000
DTSTAMP:20260419T130546
CREATED:20220816T002028Z
LAST-MODIFIED:20220816T002028Z
UID:4940-1661432400-1661436000@www.c-tecyouthservices.org
SUMMARY:NWoW Mock Interview/Interview Readiness
DESCRIPTION:NWoW Mock Interview/Interview Readiness: Go over interview questions and help prepare you to be able to give an outstanding and\nmemorable interview to a potential employer. Also talk about the do’s and don’ts of an interview.
URL:https://www.c-tecyouthservices.org/event/nwow-mock-interview-interview-readiness-4/
LOCATION:Zoom
CATEGORIES:employment
ORGANIZER;CN="Kelly Beyer":MAILTO:kbeyer@clackesd.k12.or.us
END:VEVENT
BEGIN:VEVENT
DTSTART;TZID=America/Vancouver:20220825T150000
DTEND;TZID=America/Vancouver:20220825T160000
DTSTAMP:20260419T130546
CREATED:20220816T002136Z
LAST-MODIFIED:20220816T002136Z
UID:4941-1661439600-1661443200@www.c-tecyouthservices.org
SUMMARY:NWoW Resume Building
DESCRIPTION:NWoW Resume Building: Make/edit your resume so you can stand out to employers.
URL:https://www.c-tecyouthservices.org/event/nwow-resume-building-4/
LOCATION:Zoom
CATEGORIES:employment
ORGANIZER;CN="Kelly Beyer":MAILTO:kbeyer@clackesd.k12.or.us
END:VEVENT
BEGIN:VEVENT
DTSTART;TZID=America/Vancouver:20220917T100000
DTEND;TZID=America/Vancouver:20220917T190000
DTSTAMP:20260419T130546
CREATED:20220608T201613Z
LAST-MODIFIED:20220608T201613Z
UID:4915-1663408800-1663441200@www.c-tecyouthservices.org
SUMMARY:Estacada Harvest Festival
DESCRIPTION:Harvest Fest\n\n\n\nPumpkins\, a children’s bike/stroller parade\, and family fun activities! Stay tuned for more information. \nEvent will be on 3rd Avenue between Broadway and Zobrist!
URL:https://www.c-tecyouthservices.org/event/estacada-harvest-festival/
LOCATION:Downtown Estacada\, 320 SW Zobrist St\, Estacada\, OR\, 97023\, United States
CATEGORIES:Community Resource
END:VEVENT
BEGIN:VEVENT
DTSTART;TZID=America/Vancouver:20221007T090000
DTEND;TZID=America/Vancouver:20221007T140000
DTSTAMP:20260419T130546
CREATED:20220608T005348Z
LAST-MODIFIED:20220608T005348Z
UID:4891-1665133200-1665151200@www.c-tecyouthservices.org
SUMMARY:7th Annual ABC Craft Championships
DESCRIPTION:While college debt is rising\, the construction industry in Oregon and SW Washington is booming! Apprenticeship allows recent graduates to enter a career right out of high school. Graduates from our program earn upwards of $60\,000 annually and leave campus debt-free. This is why we are passionate about getting students into the trades! \nMany have never seen\, let alone experienced what the construction trades have to offer. The Craft Championship is an incredible opportunity for everyone to see construction in action and to witness what the future could hold for them. We would love to partner with you to inspire the next generation of craft professionals. \nLunch served 11am-1pm
URL:https://www.c-tecyouthservices.org/event/7th-annual-abc-craft-championships/
LOCATION:Camp Withycomb\, 15300 SE Minuteman Way\, Clackamas\, OR\, 97015\, United States
CATEGORIES:Community Resource
END:VEVENT
END:VCALENDAR