BEGIN:VCALENDAR
VERSION:2.0
PRODID:-//C-TEC Clackamas Youth Services - ECPv6.15.20//NONSGML v1.0//EN
CALSCALE:GREGORIAN
METHOD:PUBLISH
X-WR-CALNAME:C-TEC Clackamas Youth Services
X-ORIGINAL-URL:https://www.c-tecyouthservices.org
X-WR-CALDESC:Events for C-TEC Clackamas Youth Services
REFRESH-INTERVAL;VALUE=DURATION:PT1H
X-Robots-Tag:noindex
X-PUBLISHED-TTL:PT1H
BEGIN:VTIMEZONE
TZID:America/Vancouver
BEGIN:DAYLIGHT
TZOFFSETFROM:-0800
TZOFFSETTO:-0700
TZNAME:PDT
DTSTART:20210314T100000
END:DAYLIGHT
BEGIN:STANDARD
TZOFFSETFROM:-0700
TZOFFSETTO:-0800
TZNAME:PST
DTSTART:20211107T090000
END:STANDARD
BEGIN:DAYLIGHT
TZOFFSETFROM:-0800
TZOFFSETTO:-0700
TZNAME:PDT
DTSTART:20220313T100000
END:DAYLIGHT
BEGIN:STANDARD
TZOFFSETFROM:-0700
TZOFFSETTO:-0800
TZNAME:PST
DTSTART:20221106T090000
END:STANDARD
BEGIN:DAYLIGHT
TZOFFSETFROM:-0800
TZOFFSETTO:-0700
TZNAME:PDT
DTSTART:20230312T100000
END:DAYLIGHT
BEGIN:STANDARD
TZOFFSETFROM:-0700
TZOFFSETTO:-0800
TZNAME:PST
DTSTART:20231105T090000
END:STANDARD
END:VTIMEZONE
BEGIN:VEVENT
DTSTART;TZID=America/Vancouver:20220524T100000
DTEND;TZID=America/Vancouver:20220524T120000
DTSTAMP:20260419T100719
CREATED:20220502T225129Z
LAST-MODIFIED:20220502T225129Z
UID:4845-1653386400-1653393600@www.c-tecyouthservices.org
SUMMARY:NWoW Analysis/Solution Mind Set
DESCRIPTION:NWoW Analysis/Solution Mind Set: Learn how to consider different viewpoints\, look at the bigger picture of a work situation\, examine\ninformation\, and think about different ways to solve a problem.
URL:https://www.c-tecyouthservices.org/event/nwow-analysis-solution-mind-set/
LOCATION:Zoom
CATEGORIES:employment
ORGANIZER;CN="Kelly Beyer":MAILTO:kbeyer@clackesd.k12.or.us
END:VEVENT
BEGIN:VEVENT
DTSTART;TZID=America/Vancouver:20220524T110000
DTEND;TZID=America/Vancouver:20220524T140000
DTSTAMP:20260419T100720
CREATED:20220513T012921Z
LAST-MODIFIED:20220513T012921Z
UID:4856-1653390000-1653400800@www.c-tecyouthservices.org
SUMMARY:Clackamas Community College Spring Career Fair
DESCRIPTION:Clackamas Community College’s Spring Career Fair\nTuesday May 24th 11am-2pm at the Gregory Forum on the Oregon City campus.\nThe Career Fair is an opportunity for job-seekers to explore and learn about various career paths\, network and get hired. There will be career and job opportunities in the following areas:\nHuman services\nHealth care\nLaw enforcement\nTeaching and education\nEarly childhood education\nBusiness\nIndustrial technology\nWelding\nFire and rescue\nEmployers attending include Benchmade\, Intel\, Clackamas County\, Clackamas Education Service District\, Providence Health\, Amazon and more.\nFor more information\, visit clackamas.edu/careerfair
URL:https://www.c-tecyouthservices.org/event/clackamas-community-college-spring-career-fair/
LOCATION:Clackamas Community College- Gregory Forum\, 19600 Molalla Ave.\, Oregon City\, OR\, 97045\, United States
CATEGORIES:Community Resource,employment
ORGANIZER;CN="Clackamas Community College- Career Center":MAILTO:careercenter@clackamas.edu
END:VEVENT
END:VCALENDAR