BEGIN:VCALENDAR
VERSION:2.0
PRODID:-//C-TEC Clackamas Youth Services - ECPv6.15.20//NONSGML v1.0//EN
CALSCALE:GREGORIAN
METHOD:PUBLISH
X-ORIGINAL-URL:https://www.c-tecyouthservices.org
X-WR-CALDESC:Events for C-TEC Clackamas Youth Services
REFRESH-INTERVAL;VALUE=DURATION:PT1H
X-Robots-Tag:noindex
X-PUBLISHED-TTL:PT1H
BEGIN:VTIMEZONE
TZID:America/Vancouver
BEGIN:DAYLIGHT
TZOFFSETFROM:-0800
TZOFFSETTO:-0700
TZNAME:PDT
DTSTART:20210314T100000
END:DAYLIGHT
BEGIN:STANDARD
TZOFFSETFROM:-0700
TZOFFSETTO:-0800
TZNAME:PST
DTSTART:20211107T090000
END:STANDARD
BEGIN:DAYLIGHT
TZOFFSETFROM:-0800
TZOFFSETTO:-0700
TZNAME:PDT
DTSTART:20220313T100000
END:DAYLIGHT
BEGIN:STANDARD
TZOFFSETFROM:-0700
TZOFFSETTO:-0800
TZNAME:PST
DTSTART:20221106T090000
END:STANDARD
BEGIN:DAYLIGHT
TZOFFSETFROM:-0800
TZOFFSETTO:-0700
TZNAME:PDT
DTSTART:20230312T100000
END:DAYLIGHT
BEGIN:STANDARD
TZOFFSETFROM:-0700
TZOFFSETTO:-0800
TZNAME:PST
DTSTART:20231105T090000
END:STANDARD
END:VTIMEZONE
BEGIN:VEVENT
DTSTART;TZID=America/Vancouver:20220511T070000
DTEND;TZID=America/Vancouver:20220511T080000
DTSTAMP:20260425T040741
CREATED:20220502T230723Z
LAST-MODIFIED:20220502T230723Z
UID:4852-1652252400-1652256000@www.c-tecyouthservices.org
SUMMARY:Signs of Hope Rally
DESCRIPTION:We welcome you to participate in one (or both) of the sign rally events occurring on May 11 and 18. We are looking forward to infusing hope and connection into our community and need your help! All you need is you – we bring the signs! Sign up online at https://www.signupgenius.com/go/8050f4da4ab28a3fa7-2022
URL:https://www.c-tecyouthservices.org/event/signs-of-hope-rally/
LOCATION:Beavercreek & Kaen Rd\, Intersection of Beavercreek & Kaen Rd\, Oregon City\, OR\, 97045\, United States
CATEGORIES:Community Resource
END:VEVENT
END:VCALENDAR