BEGIN:VCALENDAR
VERSION:2.0
PRODID:-//C-TEC Clackamas Youth Services - ECPv6.15.20//NONSGML v1.0//EN
CALSCALE:GREGORIAN
METHOD:PUBLISH
X-ORIGINAL-URL:https://www.c-tecyouthservices.org
X-WR-CALDESC:Events for C-TEC Clackamas Youth Services
REFRESH-INTERVAL;VALUE=DURATION:PT1H
X-Robots-Tag:noindex
X-PUBLISHED-TTL:PT1H
BEGIN:VTIMEZONE
TZID:America/Vancouver
BEGIN:DAYLIGHT
TZOFFSETFROM:-0800
TZOFFSETTO:-0700
TZNAME:PDT
DTSTART:20210314T100000
END:DAYLIGHT
BEGIN:STANDARD
TZOFFSETFROM:-0700
TZOFFSETTO:-0800
TZNAME:PST
DTSTART:20211107T090000
END:STANDARD
BEGIN:DAYLIGHT
TZOFFSETFROM:-0800
TZOFFSETTO:-0700
TZNAME:PDT
DTSTART:20220313T100000
END:DAYLIGHT
BEGIN:STANDARD
TZOFFSETFROM:-0700
TZOFFSETTO:-0800
TZNAME:PST
DTSTART:20221106T090000
END:STANDARD
BEGIN:DAYLIGHT
TZOFFSETFROM:-0800
TZOFFSETTO:-0700
TZNAME:PDT
DTSTART:20230312T100000
END:DAYLIGHT
BEGIN:STANDARD
TZOFFSETFROM:-0700
TZOFFSETTO:-0800
TZNAME:PST
DTSTART:20231105T090000
END:STANDARD
END:VTIMEZONE
BEGIN:VEVENT
DTSTART;TZID=America/Vancouver:20220428T100000
DTEND;TZID=America/Vancouver:20220428T120000
DTSTAMP:20260423T033703
CREATED:20220419T193910Z
LAST-MODIFIED:20220419T193910Z
UID:4810-1651140000-1651147200@www.c-tecyouthservices.org
SUMMARY:NWoW Resume Building
DESCRIPTION:NWoW Resume Building: Make/edit your resume so you can stand out to employers.
URL:https://www.c-tecyouthservices.org/event/nwow-resume-building/
LOCATION:OR
CATEGORIES:employment
ORGANIZER;CN="Kelly Beyer":MAILTO:kbeyer@clackesd.k12.or.us
END:VEVENT
BEGIN:VEVENT
DTSTART;TZID=America/Vancouver:20220428T130000
DTEND;TZID=America/Vancouver:20220428T150000
DTSTAMP:20260423T033703
CREATED:20220419T194013Z
LAST-MODIFIED:20220419T194013Z
UID:4811-1651150800-1651158000@www.c-tecyouthservices.org
SUMMARY:NWoW Mock Interview/Interview Readiness
DESCRIPTION:NWoW Mock Interview/Interview Readiness: Go over interview questions and help prepare you to be able to give an outstanding and memorable interview to a potential employer. Also talk about the do’s and don’ts of an interview
URL:https://www.c-tecyouthservices.org/event/nwow-mock-interview-interview-readiness/
LOCATION:OR
CATEGORIES:employment
ORGANIZER;CN="Kelly Beyer":MAILTO:kbeyer@clackesd.k12.or.us
END:VEVENT
BEGIN:VEVENT
DTSTART;TZID=America/Vancouver:20220428T173000
DTEND;TZID=America/Vancouver:20220428T183000
DTSTAMP:20260423T033703
CREATED:20220419T195925Z
LAST-MODIFIED:20220419T195925Z
UID:4820-1651167000-1651170600@www.c-tecyouthservices.org
SUMMARY:Young Adult Smart Recovery Support Group
DESCRIPTION:Young Adult Smart Recovery Support Group\nJoin the Vibrant Future Coalition for a weekly recovery support group\, Thursdays\, starting April 21\, 5:30-6:30pm\nRegister in advance here: https://tinyurl.com/vfcsmartrecoverygroup
URL:https://www.c-tecyouthservices.org/event/young-adult-smart-recovery-support-group-2/
LOCATION:OR
CATEGORIES:Community Resource
END:VEVENT
END:VCALENDAR