BEGIN:VCALENDAR
VERSION:2.0
PRODID:-//C-TEC Clackamas Youth Services - ECPv6.15.20//NONSGML v1.0//EN
CALSCALE:GREGORIAN
METHOD:PUBLISH
X-ORIGINAL-URL:https://www.c-tecyouthservices.org
X-WR-CALDESC:Events for C-TEC Clackamas Youth Services
REFRESH-INTERVAL;VALUE=DURATION:PT1H
X-Robots-Tag:noindex
X-PUBLISHED-TTL:PT1H
BEGIN:VTIMEZONE
TZID:America/Vancouver
BEGIN:DAYLIGHT
TZOFFSETFROM:-0800
TZOFFSETTO:-0700
TZNAME:PDT
DTSTART:20210314T100000
END:DAYLIGHT
BEGIN:STANDARD
TZOFFSETFROM:-0700
TZOFFSETTO:-0800
TZNAME:PST
DTSTART:20211107T090000
END:STANDARD
BEGIN:DAYLIGHT
TZOFFSETFROM:-0800
TZOFFSETTO:-0700
TZNAME:PDT
DTSTART:20220313T100000
END:DAYLIGHT
BEGIN:STANDARD
TZOFFSETFROM:-0700
TZOFFSETTO:-0800
TZNAME:PST
DTSTART:20221106T090000
END:STANDARD
BEGIN:DAYLIGHT
TZOFFSETFROM:-0800
TZOFFSETTO:-0700
TZNAME:PDT
DTSTART:20230312T100000
END:DAYLIGHT
BEGIN:STANDARD
TZOFFSETFROM:-0700
TZOFFSETTO:-0800
TZNAME:PST
DTSTART:20231105T090000
END:STANDARD
END:VTIMEZONE
BEGIN:VEVENT
DTSTART;TZID=America/Vancouver:20220426T090000
DTEND;TZID=America/Vancouver:20220426T110000
DTSTAMP:20260419T130716
CREATED:20220419T193007Z
LAST-MODIFIED:20220419T193007Z
UID:4806-1650963600-1650970800@www.c-tecyouthservices.org
SUMMARY:NWoW Adaptability
DESCRIPTION:NWoW Adaptability: Learn how to notice changes and see opportunities for growth\, stay open to new experiences\, consider a variety of viewpoints\, and handle stress in a positive way.
URL:https://www.c-tecyouthservices.org/event/nwow-adaptability/
LOCATION:OR
CATEGORIES:employment
ORGANIZER;CN="Kelly Beyer":MAILTO:kbeyer@clackesd.k12.or.us
END:VEVENT
BEGIN:VEVENT
DTSTART;TZID=America/Vancouver:20220426T180000
DTEND;TZID=America/Vancouver:20220426T200000
DTSTAMP:20260419T130716
CREATED:20220419T194955Z
LAST-MODIFIED:20220419T195717Z
UID:4812-1650996000-1651003200@www.c-tecyouthservices.org
SUMMARY:Virtual Special Education & Transition Resource Fair
DESCRIPTION:Portland Public Schools | Virtual Special Education & Transition Resource Fair\n\nApril 26th & April 27th | 6pm-8pm\n\nJoin us for a special two-night event to learn more about post-high school employment and transition planning for students on the neuro-diverse spectrum\n\nhttps://signup.com/go/BWXzfQa
URL:https://www.c-tecyouthservices.org/event/virtual-special-education-transition-resource-fair/
LOCATION:Zoom
CATEGORIES:Community Resource
END:VEVENT
END:VCALENDAR